   BEGIN:VCALENDAR
VERSION:2.0
PRODID:-//Hmcshaida - ECPv6.15.11//NONSGML v1.0//EN
CALSCALE:GREGORIAN
METHOD:PUBLISH
X-ORIGINAL-URL:https://www.hmcshaida.com
X-WR-CALDESC:Events for Hmcshaida
REFRESH-INTERVAL;VALUE=DURATION:PT1H
X-Robots-Tag:noindex
X-PUBLISHED-TTL:PT1H
BEGIN:VTIMEZONE
TZID:UTC
BEGIN:STANDARD
TZOFFSETFROM:+0000
TZOFFSETTO:+0000
TZNAME:UTC
DTSTART:20240101T000000
END:STANDARD
END:VTIMEZONE
BEGIN:VTIMEZONE
TZID:America/Halifax
BEGIN:DAYLIGHT
TZOFFSETFROM:-0400
TZOFFSETTO:-0300
TZNAME:ADT
DTSTART:20240310T060000
END:DAYLIGHT
BEGIN:STANDARD
TZOFFSETFROM:-0300
TZOFFSETTO:-0400
TZNAME:AST
DTSTART:20241103T050000
END:STANDARD
BEGIN:DAYLIGHT
TZOFFSETFROM:-0400
TZOFFSETTO:-0300
TZNAME:ADT
DTSTART:20250309T060000
END:DAYLIGHT
BEGIN:STANDARD
TZOFFSETFROM:-0300
TZOFFSETTO:-0400
TZNAME:AST
DTSTART:20251102T050000
END:STANDARD
BEGIN:DAYLIGHT
TZOFFSETFROM:-0400
TZOFFSETTO:-0300
TZNAME:ADT
DTSTART:20260308T060000
END:DAYLIGHT
BEGIN:STANDARD
TZOFFSETFROM:-0300
TZOFFSETTO:-0400
TZNAME:AST
DTSTART:20261101T050000
END:STANDARD
END:VTIMEZONE
BEGIN:VEVENT
DTSTART;VALUE=DATE:20251101
DTEND;VALUE=DATE:20251102
DTSTAMP:20260424T202756
CREATED:20230310T003903Z
LAST-MODIFIED:20230605T190938Z
UID:10013437-1761955200-1762041599@www.hmcshaida.com
SUMMARY:Convoy RA.54A departs Kola Inlet.
DESCRIPTION:
URL:https://www.hmcshaida.com/events/convoy-ra-54a-departs-kola-inlet/2025-11-01/
END:VEVENT
BEGIN:VEVENT
DTSTART;VALUE=DATE:20251102
DTEND;VALUE=DATE:20251103
DTSTAMP:20260424T202756
CREATED:20230310T003903Z
LAST-MODIFIED:20230605T190343Z
UID:10013353-1762041600-1762127999@www.hmcshaida.com
SUMMARY:HMCS HAIDA joins convoy RA.54A as escort.
DESCRIPTION:
URL:https://www.hmcshaida.com/events/hmcs-haida-joins-convoy-ra-54a-as-escort/2025-11-02/
END:VEVENT
BEGIN:VEVENT
DTSTART;VALUE=DATE:20251105
DTEND;VALUE=DATE:20251106
DTSTAMP:20260424T202756
CREATED:20230310T003912Z
LAST-MODIFIED:20230310T011927Z
UID:10007365-1762300800-1762387199@www.hmcshaida.com
SUMMARY:Prince Charles\, Prince of Wales\, and his wife\, Camilla\, Duchess of Cornwall (as they were then known) visited HMCS HAIDA and unveiled a plaque outside of the gift shop.
DESCRIPTION:
URL:https://www.hmcshaida.com/events/prince-charles-prince-of-wales-and-his-wife-camilla-duchess-of-cornwall-as-they-were-then-known-visited-hmcs-haida-and-unveiled-a-plaque-outside-of-the-gift-shop/2025-11-05/
END:VEVENT
BEGIN:VEVENT
DTSTART;VALUE=DATE:20251106
DTEND;VALUE=DATE:20251107
DTSTAMP:20260424T202756
CREATED:20230605T190141Z
LAST-MODIFIED:20230605T190143Z
UID:10007781-1762387200-1762473599@www.hmcshaida.com
SUMMARY:HMCS HAIDA arrives in Korea.
DESCRIPTION:
URL:https://www.hmcshaida.com/events/hmcs-haida-arrives-in-korea-2/2025-11-06/
END:VEVENT
BEGIN:VEVENT
DTSTART;VALUE=DATE:20251108
DTEND;VALUE=DATE:20251109
DTSTAMP:20260424T202756
CREATED:20230310T003913Z
LAST-MODIFIED:20230605T190020Z
UID:10013198-1762560000-1762646399@www.hmcshaida.com
SUMMARY:HMCS HAIDA departs convoy RA.54A.
DESCRIPTION:
URL:https://www.hmcshaida.com/events/hmcs-haida-departs-convoy-ra-54a/2025-11-08/
END:VEVENT
BEGIN:VEVENT
DTSTART;VALUE=DATE:20251108
DTEND;VALUE=DATE:20251109
DTSTAMP:20260424T202756
CREATED:20250415T165310Z
LAST-MODIFIED:20250415T165310Z
UID:10014217-1762560000-1762646399@www.hmcshaida.com
SUMMARY:QOR Remembrance Display at Casa Loma.
DESCRIPTION:VST Display again requested for their Museum open  Day at Casa Loma.
URL:https://www.hmcshaida.com/events/qor-remembrance-display-at-casa-loma/
END:VEVENT
BEGIN:VEVENT
DTSTART;VALUE=DATE:20251114
DTEND;VALUE=DATE:20251115
DTSTAMP:20260424T202756
CREATED:20230310T003913Z
LAST-MODIFIED:20230605T185618Z
UID:10012961-1763078400-1763164799@www.hmcshaida.com
SUMMARY:Convoy RA.54A arrives at Loch Ewe.
DESCRIPTION:
URL:https://www.hmcshaida.com/events/convoy-ra-54a-arrives-at-loch-ewe/2025-11-14/
END:VEVENT
BEGIN:VEVENT
DTSTART;VALUE=DATE:20251115
DTEND;VALUE=DATE:20251116
DTSTAMP:20260424T202756
CREATED:20230310T003919Z
LAST-MODIFIED:20230605T185421Z
UID:10012876-1763164800-1763251199@www.hmcshaida.com
SUMMARY:Convoy JW.54A departs Lock Ewe.
DESCRIPTION:
URL:https://www.hmcshaida.com/events/convoy-jw-54a-departs-lock-ewe/2025-11-15/
END:VEVENT
BEGIN:VEVENT
DTSTART;VALUE=DATE:20251118
DTEND;VALUE=DATE:20251119
DTSTAMP:20260424T202756
CREATED:20230310T003919Z
LAST-MODIFIED:20230605T185339Z
UID:10012792-1763424000-1763510399@www.hmcshaida.com
SUMMARY:HMCS HAIDA joins convoy JW.54A as escort.
DESCRIPTION:
URL:https://www.hmcshaida.com/events/hmcs-haida-joins-convoy-jw-54a-as-escort/2025-11-18/
END:VEVENT
BEGIN:VEVENT
DTSTART;VALUE=DATE:20251119
DTEND;VALUE=DATE:20251120
DTSTAMP:20260424T202756
CREATED:20230605T185926Z
LAST-MODIFIED:20230605T185926Z
UID:10013114-1763510400-1763596799@www.hmcshaida.com
SUMMARY:approx 300 miles north of Bermuda\, HMCS HAIDA rescued 18 airmen from a B.29 bomber that went down on November 16\, 1949 while enroute from the USAF Base at St. George Bermuda to England.
DESCRIPTION:
URL:https://www.hmcshaida.com/events/approx-300-miles-north-of-bermuda-hmcs-haida-rescued-18-airmen-from-a-b-29-bomber-that-went-down-on-november-16-1949-while-enroute-from-the-usaf-base-at-st-george-bermuda-to-england-2/2025-11-19/
END:VEVENT
BEGIN:VEVENT
DTSTART;VALUE=DATE:20251124
DTEND;VALUE=DATE:20251125
DTSTAMP:20260424T202756
CREATED:20230310T003919Z
LAST-MODIFIED:20230605T184256Z
UID:10012222-1763942400-1764028799@www.hmcshaida.com
SUMMARY:HMCS HAIDA departs convoy JW.54A.
DESCRIPTION:
URL:https://www.hmcshaida.com/events/hmcs-haida-departs-convoy-jw-54a/2025-11-24/
END:VEVENT
BEGIN:VEVENT
DTSTART;VALUE=DATE:20251124
DTEND;VALUE=DATE:20251125
DTSTAMP:20260424T202756
CREATED:20230605T184155Z
LAST-MODIFIED:20230605T184155Z
UID:10012138-1763942400-1764028799@www.hmcshaida.com
SUMMARY:Convoy JW.54A arrives at Kola Inlet.
DESCRIPTION:
URL:https://www.hmcshaida.com/events/convoy-jw-54a-arrives-at-kola-inlet-2/2025-11-24/
END:VEVENT
BEGIN:VEVENT
DTSTART;VALUE=DATE:20251126
DTEND;VALUE=DATE:20251127
DTSTAMP:20260424T202756
CREATED:20230310T003920Z
LAST-MODIFIED:20230605T184342Z
UID:10012306-1764115200-1764201599@www.hmcshaida.com
SUMMARY:Convoy RA.54B departs Archangel.
DESCRIPTION:
URL:https://www.hmcshaida.com/events/convoy-ra-54b-departs-archangel/2025-11-26/
END:VEVENT
BEGIN:VEVENT
DTSTART;VALUE=DATE:20251128
DTEND;VALUE=DATE:20251129
DTSTAMP:20260424T202756
CREATED:20230310T003927Z
LAST-MODIFIED:20230605T184443Z
UID:10012390-1764288000-1764374399@www.hmcshaida.com
SUMMARY:HMCS HAIDA joins convoy RA.54B.
DESCRIPTION:
URL:https://www.hmcshaida.com/events/hmcs-haida-joins-convoy-ra-54b/2025-11-28/
END:VEVENT
END:VCALENDAR