   BEGIN:VCALENDAR
VERSION:2.0
PRODID:-//Hmcshaida - ECPv6.15.11//NONSGML v1.0//EN
CALSCALE:GREGORIAN
METHOD:PUBLISH
X-ORIGINAL-URL:https://www.hmcshaida.com
X-WR-CALDESC:Events for Hmcshaida
REFRESH-INTERVAL;VALUE=DURATION:PT1H
X-Robots-Tag:noindex
X-PUBLISHED-TTL:PT1H
BEGIN:VTIMEZONE
TZID:UTC
BEGIN:STANDARD
TZOFFSETFROM:+0000
TZOFFSETTO:+0000
TZNAME:UTC
DTSTART:20240101T000000
END:STANDARD
END:VTIMEZONE
BEGIN:VTIMEZONE
TZID:America/Halifax
BEGIN:DAYLIGHT
TZOFFSETFROM:-0400
TZOFFSETTO:-0300
TZNAME:ADT
DTSTART:20240310T060000
END:DAYLIGHT
BEGIN:STANDARD
TZOFFSETFROM:-0300
TZOFFSETTO:-0400
TZNAME:AST
DTSTART:20241103T050000
END:STANDARD
BEGIN:DAYLIGHT
TZOFFSETFROM:-0400
TZOFFSETTO:-0300
TZNAME:ADT
DTSTART:20250309T060000
END:DAYLIGHT
BEGIN:STANDARD
TZOFFSETFROM:-0300
TZOFFSETTO:-0400
TZNAME:AST
DTSTART:20251102T050000
END:STANDARD
BEGIN:DAYLIGHT
TZOFFSETFROM:-0400
TZOFFSETTO:-0300
TZNAME:ADT
DTSTART:20260308T060000
END:DAYLIGHT
BEGIN:STANDARD
TZOFFSETFROM:-0300
TZOFFSETTO:-0400
TZNAME:AST
DTSTART:20261101T050000
END:STANDARD
END:VTIMEZONE
BEGIN:VEVENT
DTSTART;VALUE=DATE:20250902
DTEND;VALUE=DATE:20250903
DTSTAMP:20260424T232149
CREATED:20230310T003857Z
LAST-MODIFIED:20230310T013248Z
UID:10008251-1756771200-1756857599@www.hmcshaida.com
SUMMARY:LCdr Robert Phillip Welland departs as Commanding Officer.
DESCRIPTION:
URL:https://www.hmcshaida.com/events/lcdr-robert-phillip-welland-departs-as-commanding-officer/2025-09-02/
END:VEVENT
BEGIN:VEVENT
DTSTART;VALUE=DATE:20250912
DTEND;VALUE=DATE:20250913
DTSTAMP:20260424T232149
CREATED:20230310T003858Z
LAST-MODIFIED:20230310T011644Z
UID:10007005-1757635200-1757721599@www.hmcshaida.com
SUMMARY:HMCS HAIDA departs Korea for Halifax after completing her U.N. assignment.
DESCRIPTION:
URL:https://www.hmcshaida.com/events/hmcs-haida-departs-korea-for-halifax-after-completing-her-u-n-assignment/2025-09-12/
END:VEVENT
BEGIN:VEVENT
DTSTART;VALUE=DATE:20250927
DTEND;VALUE=DATE:20250928
DTSTAMP:20260424T232149
CREATED:20230605T192120Z
LAST-MODIFIED:20230605T192120Z
UID:10013686-1758931200-1759017599@www.hmcshaida.com
SUMMARY:HMCS HAIDA departs Halifax for 1st tour in Korea.
DESCRIPTION:
URL:https://www.hmcshaida.com/events/hmcs-haida-departs-halifax-for-1st-tour-in-korea-2/2025-09-27/
END:VEVENT
BEGIN:VEVENT
DTSTART;VALUE=DATE:20250929
DTEND;VALUE=DATE:20250930
DTSTAMP:20260424T232149
CREATED:20230310T003903Z
LAST-MODIFIED:20230310T215159Z
UID:10009293-1759104000-1759190399@www.hmcshaida.com
SUMMARY:HMCS HAIDA arrived in Halifax.
DESCRIPTION:
URL:https://www.hmcshaida.com/events/hmcs-haida-arrived-in-halifax/2025-09-29/
END:VEVENT
BEGIN:VEVENT
DTSTART;VALUE=DATE:20250929
DTEND;VALUE=DATE:20250930
DTSTAMP:20260424T232149
CREATED:20230605T191820Z
LAST-MODIFIED:20230605T191820Z
UID:10013610-1759104000-1759190399@www.hmcshaida.com
SUMMARY:HMCS HAIDA keel laid down.
DESCRIPTION:
URL:https://www.hmcshaida.com/events/hmcs-haida-keel-laid-down-2/2025-09-29/
END:VEVENT
END:VCALENDAR