   BEGIN:VCALENDAR
VERSION:2.0
PRODID:-//Hmcshaida - ECPv6.15.11//NONSGML v1.0//EN
CALSCALE:GREGORIAN
METHOD:PUBLISH
X-ORIGINAL-URL:https://www.hmcshaida.com
X-WR-CALDESC:Events for Hmcshaida
REFRESH-INTERVAL;VALUE=DURATION:PT1H
X-Robots-Tag:noindex
X-PUBLISHED-TTL:PT1H
BEGIN:VTIMEZONE
TZID:America/Halifax
BEGIN:DAYLIGHT
TZOFFSETFROM:-0400
TZOFFSETTO:-0300
TZNAME:ADT
DTSTART:20230312T060000
END:DAYLIGHT
BEGIN:STANDARD
TZOFFSETFROM:-0300
TZOFFSETTO:-0400
TZNAME:AST
DTSTART:20231105T050000
END:STANDARD
BEGIN:DAYLIGHT
TZOFFSETFROM:-0400
TZOFFSETTO:-0300
TZNAME:ADT
DTSTART:20240310T060000
END:DAYLIGHT
BEGIN:STANDARD
TZOFFSETFROM:-0300
TZOFFSETTO:-0400
TZNAME:AST
DTSTART:20241103T050000
END:STANDARD
BEGIN:DAYLIGHT
TZOFFSETFROM:-0400
TZOFFSETTO:-0300
TZNAME:ADT
DTSTART:20250309T060000
END:DAYLIGHT
BEGIN:STANDARD
TZOFFSETFROM:-0300
TZOFFSETTO:-0400
TZNAME:AST
DTSTART:20251102T050000
END:STANDARD
END:VTIMEZONE
BEGIN:VTIMEZONE
TZID:UTC
BEGIN:STANDARD
TZOFFSETFROM:+0000
TZOFFSETTO:+0000
TZNAME:UTC
DTSTART:20230101T000000
END:STANDARD
END:VTIMEZONE
BEGIN:VEVENT
DTSTART;VALUE=DATE:20240927
DTEND;VALUE=DATE:20240928
DTSTAMP:20260421T205455
CREATED:20230605T192120Z
LAST-MODIFIED:20230605T192120Z
UID:10013685-1727395200-1727481599@www.hmcshaida.com
SUMMARY:HMCS HAIDA departs Halifax for 1st tour in Korea.
DESCRIPTION:
URL:https://www.hmcshaida.com/events/hmcs-haida-departs-halifax-for-1st-tour-in-korea-2/2024-09-27/
END:VEVENT
BEGIN:VEVENT
DTSTART;VALUE=DATE:20240929
DTEND;VALUE=DATE:20240930
DTSTAMP:20260421T205455
CREATED:20230310T003903Z
LAST-MODIFIED:20230310T215159Z
UID:10009292-1727568000-1727654399@www.hmcshaida.com
SUMMARY:HMCS HAIDA arrived in Halifax.
DESCRIPTION:
URL:https://www.hmcshaida.com/events/hmcs-haida-arrived-in-halifax/2024-09-29/
END:VEVENT
BEGIN:VEVENT
DTSTART;VALUE=DATE:20240929
DTEND;VALUE=DATE:20240930
DTSTAMP:20260421T205455
CREATED:20230605T191820Z
LAST-MODIFIED:20230605T191820Z
UID:10013609-1727568000-1727654399@www.hmcshaida.com
SUMMARY:HMCS HAIDA keel laid down.
DESCRIPTION:
URL:https://www.hmcshaida.com/events/hmcs-haida-keel-laid-down-2/2024-09-29/
END:VEVENT
BEGIN:VEVENT
DTSTART;VALUE=DATE:20241011
DTEND;VALUE=DATE:20241012
DTSTAMP:20260421T205455
CREATED:20230310T003903Z
LAST-MODIFIED:20230310T011722Z
UID:10007141-1728604800-1728691199@www.hmcshaida.com
SUMMARY:HMCS HAIDA paid off for the last time at Sydney\, NS.
DESCRIPTION:
URL:https://www.hmcshaida.com/events/hmcs-haida-paid-off-for-the-last-time-at-sydney-ns/2024-10-11/
END:VEVENT
BEGIN:VEVENT
DTSTART;VALUE=DATE:20241101
DTEND;VALUE=DATE:20241102
DTSTAMP:20260421T205455
CREATED:20230310T003903Z
LAST-MODIFIED:20230605T190938Z
UID:10013436-1730419200-1730505599@www.hmcshaida.com
SUMMARY:Convoy RA.54A departs Kola Inlet.
DESCRIPTION:
URL:https://www.hmcshaida.com/events/convoy-ra-54a-departs-kola-inlet/2024-11-01/
END:VEVENT
BEGIN:VEVENT
DTSTART;VALUE=DATE:20241102
DTEND;VALUE=DATE:20241103
DTSTAMP:20260421T205455
CREATED:20230310T003903Z
LAST-MODIFIED:20230605T190343Z
UID:10013352-1730505600-1730591999@www.hmcshaida.com
SUMMARY:HMCS HAIDA joins convoy RA.54A as escort.
DESCRIPTION:
URL:https://www.hmcshaida.com/events/hmcs-haida-joins-convoy-ra-54a-as-escort/2024-11-02/
END:VEVENT
BEGIN:VEVENT
DTSTART;VALUE=DATE:20241105
DTEND;VALUE=DATE:20241106
DTSTAMP:20260421T205455
CREATED:20230310T003912Z
LAST-MODIFIED:20230310T011927Z
UID:10007364-1730764800-1730851199@www.hmcshaida.com
SUMMARY:Prince Charles\, Prince of Wales\, and his wife\, Camilla\, Duchess of Cornwall (as they were then known) visited HMCS HAIDA and unveiled a plaque outside of the gift shop.
DESCRIPTION:
URL:https://www.hmcshaida.com/events/prince-charles-prince-of-wales-and-his-wife-camilla-duchess-of-cornwall-as-they-were-then-known-visited-hmcs-haida-and-unveiled-a-plaque-outside-of-the-gift-shop/2024-11-05/
END:VEVENT
BEGIN:VEVENT
DTSTART;VALUE=DATE:20241106
DTEND;VALUE=DATE:20241107
DTSTAMP:20260421T205455
CREATED:20230605T190141Z
LAST-MODIFIED:20230605T190143Z
UID:10007780-1730851200-1730937599@www.hmcshaida.com
SUMMARY:HMCS HAIDA arrives in Korea.
DESCRIPTION:
URL:https://www.hmcshaida.com/events/hmcs-haida-arrives-in-korea-2/2024-11-06/
END:VEVENT
BEGIN:VEVENT
DTSTART;VALUE=DATE:20241108
DTEND;VALUE=DATE:20241109
DTSTAMP:20260421T205455
CREATED:20230310T003913Z
LAST-MODIFIED:20230605T190020Z
UID:10013197-1731024000-1731110399@www.hmcshaida.com
SUMMARY:HMCS HAIDA departs convoy RA.54A.
DESCRIPTION:
URL:https://www.hmcshaida.com/events/hmcs-haida-departs-convoy-ra-54a/2024-11-08/
END:VEVENT
BEGIN:VEVENT
DTSTART;VALUE=DATE:20241114
DTEND;VALUE=DATE:20241115
DTSTAMP:20260421T205455
CREATED:20230310T003913Z
LAST-MODIFIED:20230605T185618Z
UID:10012960-1731542400-1731628799@www.hmcshaida.com
SUMMARY:Convoy RA.54A arrives at Loch Ewe.
DESCRIPTION:
URL:https://www.hmcshaida.com/events/convoy-ra-54a-arrives-at-loch-ewe/2024-11-14/
END:VEVENT
BEGIN:VEVENT
DTSTART;VALUE=DATE:20241115
DTEND;VALUE=DATE:20241116
DTSTAMP:20260421T205455
CREATED:20230310T003919Z
LAST-MODIFIED:20230605T185421Z
UID:10012875-1731628800-1731715199@www.hmcshaida.com
SUMMARY:Convoy JW.54A departs Lock Ewe.
DESCRIPTION:
URL:https://www.hmcshaida.com/events/convoy-jw-54a-departs-lock-ewe/2024-11-15/
END:VEVENT
BEGIN:VEVENT
DTSTART;VALUE=DATE:20241118
DTEND;VALUE=DATE:20241119
DTSTAMP:20260421T205455
CREATED:20230310T003919Z
LAST-MODIFIED:20230605T185339Z
UID:10012791-1731888000-1731974399@www.hmcshaida.com
SUMMARY:HMCS HAIDA joins convoy JW.54A as escort.
DESCRIPTION:
URL:https://www.hmcshaida.com/events/hmcs-haida-joins-convoy-jw-54a-as-escort/2024-11-18/
END:VEVENT
BEGIN:VEVENT
DTSTART;VALUE=DATE:20241119
DTEND;VALUE=DATE:20241120
DTSTAMP:20260421T205455
CREATED:20230605T185926Z
LAST-MODIFIED:20230605T185926Z
UID:10013113-1731974400-1732060799@www.hmcshaida.com
SUMMARY:approx 300 miles north of Bermuda\, HMCS HAIDA rescued 18 airmen from a B.29 bomber that went down on November 16\, 1949 while enroute from the USAF Base at St. George Bermuda to England.
DESCRIPTION:
URL:https://www.hmcshaida.com/events/approx-300-miles-north-of-bermuda-hmcs-haida-rescued-18-airmen-from-a-b-29-bomber-that-went-down-on-november-16-1949-while-enroute-from-the-usaf-base-at-st-george-bermuda-to-england-2/2024-11-19/
END:VEVENT
BEGIN:VEVENT
DTSTART;VALUE=DATE:20241124
DTEND;VALUE=DATE:20241125
DTSTAMP:20260421T205455
CREATED:20230310T003919Z
LAST-MODIFIED:20230605T184256Z
UID:10012221-1732406400-1732492799@www.hmcshaida.com
SUMMARY:HMCS HAIDA departs convoy JW.54A.
DESCRIPTION:
URL:https://www.hmcshaida.com/events/hmcs-haida-departs-convoy-jw-54a/2024-11-24/
END:VEVENT
BEGIN:VEVENT
DTSTART;VALUE=DATE:20241124
DTEND;VALUE=DATE:20241125
DTSTAMP:20260421T205455
CREATED:20230605T184155Z
LAST-MODIFIED:20230605T184155Z
UID:10012137-1732406400-1732492799@www.hmcshaida.com
SUMMARY:Convoy JW.54A arrives at Kola Inlet.
DESCRIPTION:
URL:https://www.hmcshaida.com/events/convoy-jw-54a-arrives-at-kola-inlet-2/2024-11-24/
END:VEVENT
BEGIN:VEVENT
DTSTART;VALUE=DATE:20241126
DTEND;VALUE=DATE:20241127
DTSTAMP:20260421T205455
CREATED:20230310T003920Z
LAST-MODIFIED:20230605T184342Z
UID:10012305-1732579200-1732665599@www.hmcshaida.com
SUMMARY:Convoy RA.54B departs Archangel.
DESCRIPTION:
URL:https://www.hmcshaida.com/events/convoy-ra-54b-departs-archangel/2024-11-26/
END:VEVENT
BEGIN:VEVENT
DTSTART;VALUE=DATE:20241128
DTEND;VALUE=DATE:20241129
DTSTAMP:20260421T205455
CREATED:20230310T003927Z
LAST-MODIFIED:20230605T184443Z
UID:10012389-1732752000-1732838399@www.hmcshaida.com
SUMMARY:HMCS HAIDA joins convoy RA.54B.
DESCRIPTION:
URL:https://www.hmcshaida.com/events/hmcs-haida-joins-convoy-ra-54b/2024-11-28/
END:VEVENT
BEGIN:VEVENT
DTSTART;VALUE=DATE:20241205
DTEND;VALUE=DATE:20241206
DTSTAMP:20260421T205455
CREATED:20230310T003928Z
LAST-MODIFIED:20230605T184549Z
UID:10012473-1733356800-1733443199@www.hmcshaida.com
SUMMARY:HMCS HAIDA departs convoy RA.54B
DESCRIPTION:
URL:https://www.hmcshaida.com/events/hmcs-haida-departs-convoy-ra-54b/2024-12-05/
END:VEVENT
BEGIN:VEVENT
DTSTART;VALUE=DATE:20241214
DTEND;VALUE=DATE:20241215
DTSTAMP:20260421T205455
CREATED:20230605T185134Z
LAST-MODIFIED:20230605T185134Z
UID:10012632-1734134400-1734220799@www.hmcshaida.com
SUMMARY:HMCS HAIDA departed Halifax for Korea
DESCRIPTION:
URL:https://www.hmcshaida.com/events/hmcs-haida-departed-halifax-for-korea-2/2024-12-14/
END:VEVENT
BEGIN:VEVENT
DTSTART;VALUE=DATE:20241214
DTEND;VALUE=DATE:20241215
DTSTAMP:20260421T205455
CREATED:20230605T185254Z
LAST-MODIFIED:20230605T185254Z
UID:10012707-1734134400-1734220799@www.hmcshaida.com
SUMMARY:HMCS HAIDA departs Halifax for 2nd tour in Korea.
DESCRIPTION:
URL:https://www.hmcshaida.com/events/hmcs-haida-departs-halifax-for-2nd-tour-in-korea-2/2024-12-14/
END:VEVENT
BEGIN:VEVENT
DTSTART;VALUE=DATE:20241218
DTEND;VALUE=DATE:20241219
DTSTAMP:20260421T205455
CREATED:20230310T003928Z
LAST-MODIFIED:20230310T215147Z
UID:10009209-1734480000-1734566399@www.hmcshaida.com
SUMMARY:Cdr Henry George DeWolf departs as Commanding Officer.
DESCRIPTION:
URL:https://www.hmcshaida.com/events/cdr-henry-george-dewolf-departs-as-commanding-officer/2024-12-18/
END:VEVENT
BEGIN:VEVENT
DTSTART;VALUE=DATE:20241219
DTEND;VALUE=DATE:20241220
DTSTAMP:20260421T205455
CREATED:20230310T003928Z
LAST-MODIFIED:20230310T215131Z
UID:10009126-1734566400-1734652799@www.hmcshaida.com
SUMMARY:LCdr Robert Phillip Welland is appointed Commanding Officer.
DESCRIPTION:
URL:https://www.hmcshaida.com/events/lcdr-robert-phillip-welland-is-appointed-commanding-officer/2024-12-19/
END:VEVENT
BEGIN:VEVENT
DTSTART;VALUE=DATE:20241220
DTEND;VALUE=DATE:20241221
DTSTAMP:20260421T205455
CREATED:20230310T003930Z
LAST-MODIFIED:20230605T184658Z
UID:10012557-1734652800-1734739199@www.hmcshaida.com
SUMMARY:Convoy JW.55B departs Lock Ewe.
DESCRIPTION:
URL:https://www.hmcshaida.com/events/convoy-jw-55b-departs-lock-ewe/2024-12-20/
END:VEVENT
BEGIN:VEVENT
DTSTART;VALUE=DATE:20241222
DTEND;VALUE=DATE:20241223
DTSTAMP:20260421T205455
CREATED:20230310T003931Z
LAST-MODIFIED:20230310T215616Z
UID:10010628-1734825600-1734911999@www.hmcshaida.com
SUMMARY:HMCS HAIDA joins convoy JW.55B.
DESCRIPTION:
URL:https://www.hmcshaida.com/events/hmcs-haida-joins-convoy-jw-55b/2024-12-22/
END:VEVENT
BEGIN:VEVENT
DTSTART;VALUE=DATE:20241226
DTEND;VALUE=DATE:20241227
DTSTAMP:20260421T205455
CREATED:20230605T182422Z
LAST-MODIFIED:20230605T182422Z
UID:10011823-1735171200-1735257599@www.hmcshaida.com
SUMMARY:Battle of North Cape and the destruction of the German battlecruiser Scharnhorst. HMCS HAIDA was the stern escort for JW55B. HMCS HAIDA came within twelve miles of miles of Scharnhorst’s forward destroyer escort.
DESCRIPTION:
URL:https://www.hmcshaida.com/events/battle-of-north-cape-and-the-destruction-of-the-german-battlecruiser-scharnhorst-hmcs-haida-was-the-stern-escort-for-jw55b-hmcs-haida-came-within-twelve-miles-of-miles-of-scharnhorsts-forwa-3/2024-12-26/
END:VEVENT
BEGIN:VEVENT
DTSTART;VALUE=DATE:20241229
DTEND;VALUE=DATE:20241230
DTSTAMP:20260421T205455
CREATED:20230310T003931Z
LAST-MODIFIED:20230310T215549Z
UID:10010460-1735430400-1735516799@www.hmcshaida.com
SUMMARY:HMCS HAIDA departs convoy JW.55B.
DESCRIPTION:
URL:https://www.hmcshaida.com/events/hmcs-haida-departs-convoy-jw-55b/2024-12-29/
END:VEVENT
BEGIN:VEVENT
DTSTART;VALUE=DATE:20241230
DTEND;VALUE=DATE:20241231
DTSTAMP:20260421T205455
CREATED:20230310T003931Z
LAST-MODIFIED:20230310T215533Z
UID:10010376-1735516800-1735603199@www.hmcshaida.com
SUMMARY:Convoy RA.55B departs Kola Inlet.
DESCRIPTION:
URL:https://www.hmcshaida.com/events/convoy-ra-55b-departs-kola-inlet/2024-12-30/
END:VEVENT
BEGIN:VEVENT
DTSTART;VALUE=DATE:20241231
DTEND;VALUE=DATE:20250101
DTSTAMP:20260421T205455
CREATED:20230310T003931Z
LAST-MODIFIED:20230310T215520Z
UID:10010292-1735603200-1735689599@www.hmcshaida.com
SUMMARY:HMCS HAIDA joins convoy RA.55B as escort.
DESCRIPTION:
URL:https://www.hmcshaida.com/events/hmcs-haida-joins-convoy-ra-55b-as-escort/2024-12-31/
END:VEVENT
BEGIN:VEVENT
DTSTART;VALUE=DATE:20250107
DTEND;VALUE=DATE:20250108
DTSTAMP:20260421T205455
CREATED:20230310T003942Z
LAST-MODIFIED:20230310T215508Z
UID:10010208-1736208000-1736294399@www.hmcshaida.com
SUMMARY:HMCS HAIDA departs convoy RA.55B.
DESCRIPTION:
URL:https://www.hmcshaida.com/events/hmcs-haida-departs-convoy-ra-55b/2025-01-07/
END:VEVENT
BEGIN:VEVENT
DTSTART;VALUE=DATE:20250108
DTEND;VALUE=DATE:20250109
DTSTAMP:20260421T205455
CREATED:20230310T003942Z
LAST-MODIFIED:20230310T215455Z
UID:10010124-1736294400-1736380799@www.hmcshaida.com
SUMMARY:Convoy RA.55B arrives at Loch Ewe.
DESCRIPTION:
URL:https://www.hmcshaida.com/events/convoy-ra-55b-arrives-at-loch-ewe/2025-01-08/
END:VEVENT
END:VCALENDAR