   BEGIN:VCALENDAR
VERSION:2.0
PRODID:-//Hmcshaida - ECPv6.15.11//NONSGML v1.0//EN
CALSCALE:GREGORIAN
METHOD:PUBLISH
X-ORIGINAL-URL:https://www.hmcshaida.com
X-WR-CALDESC:Events for Hmcshaida
REFRESH-INTERVAL;VALUE=DURATION:PT1H
X-Robots-Tag:noindex
X-PUBLISHED-TTL:PT1H
BEGIN:VTIMEZONE
TZID:UTC
BEGIN:STANDARD
TZOFFSETFROM:+0000
TZOFFSETTO:+0000
TZNAME:UTC
DTSTART:20260101T000000
END:STANDARD
END:VTIMEZONE
BEGIN:VTIMEZONE
TZID:America/Halifax
BEGIN:DAYLIGHT
TZOFFSETFROM:-0400
TZOFFSETTO:-0300
TZNAME:ADT
DTSTART:20260308T060000
END:DAYLIGHT
BEGIN:STANDARD
TZOFFSETFROM:-0300
TZOFFSETTO:-0400
TZNAME:AST
DTSTART:20261101T050000
END:STANDARD
BEGIN:DAYLIGHT
TZOFFSETFROM:-0400
TZOFFSETTO:-0300
TZNAME:ADT
DTSTART:20270314T060000
END:DAYLIGHT
BEGIN:STANDARD
TZOFFSETFROM:-0300
TZOFFSETTO:-0400
TZNAME:AST
DTSTART:20271107T050000
END:STANDARD
BEGIN:DAYLIGHT
TZOFFSETFROM:-0400
TZOFFSETTO:-0300
TZNAME:ADT
DTSTART:20280312T060000
END:DAYLIGHT
BEGIN:STANDARD
TZOFFSETFROM:-0300
TZOFFSETTO:-0400
TZNAME:AST
DTSTART:20281105T050000
END:STANDARD
END:VTIMEZONE
BEGIN:VEVENT
DTSTART;VALUE=DATE:20270429
DTEND;VALUE=DATE:20270430
DTSTAMP:20260421T205450
CREATED:20230310T003757Z
LAST-MODIFIED:20230310T013501Z
UID:10008636-1808956800-1809043199@www.hmcshaida.com
SUMMARY:HMCS HAIDA\, HMCS HURON and HMCS IROQUOIS depart Kola Inlet for Clyde with convoy RA.66.
DESCRIPTION:
URL:https://www.hmcshaida.com/events/hmcs-haida-hmcs-huron-and-hmcs-iroquois-depart-kola-inlet-for-clyde-with-convoy-ra-66/2027-04-29/
END:VEVENT
BEGIN:VEVENT
DTSTART;VALUE=DATE:20270429
DTEND;VALUE=DATE:20270430
DTSTAMP:20260421T205450
CREATED:20230310T003757Z
LAST-MODIFIED:20230310T013518Z
UID:10008718-1808956800-1809043199@www.hmcshaida.com
SUMMARY:HMCS HAIDA and HMCS IROQUOIS were attacked by U_427. The attack resulted in near misses by U_427. The last convoy battle of WW2.
DESCRIPTION:
URL:https://www.hmcshaida.com/events/hmcs-haida-and-hmcs-iroquois-were-attacked-by-u_427-the-attack-resulted-in-near-misses-by-u_427-the-last-convoy-battle-of-ww2/2027-04-29/
END:VEVENT
BEGIN:VEVENT
DTSTART;VALUE=DATE:20270429
DTEND;VALUE=DATE:20270430
DTSTAMP:20260421T205450
CREATED:20250331T163056Z
LAST-MODIFIED:20250331T163252Z
UID:10014179-1808956800-1809043199@www.hmcshaida.com
SUMMARY:Sinking of HMCS Athabaskan  (ship not open to visitors)
DESCRIPTION:Commemorated at HMCS Haida\, the sinking of HMCS Athabaskan (April 29\, 1944) honours 128 lost sailors and its role in WWII naval history.
URL:https://www.hmcshaida.com/events/sinking-of-hmcs-athabaskan/2027-04-29/
END:VEVENT
BEGIN:VEVENT
DTSTART;VALUE=DATE:20270501
DTEND;VALUE=DATE:20270502
DTSTAMP:20260421T205451
CREATED:20230310T003758Z
LAST-MODIFIED:20230310T010730Z
UID:10006703-1809129600-1809215999@www.hmcshaida.com
SUMMARY:78th anniversary of the Battle of the Atlantic
DESCRIPTION:
URL:https://www.hmcshaida.com/events/78th-anniversary-of-the-battle-of-the-atlantic-4/2027-05-01/
END:VEVENT
BEGIN:VEVENT
DTSTART;VALUE=DATE:20270502
DTEND;VALUE=DATE:20270503
DTSTAMP:20260421T205451
CREATED:20230426T204833Z
LAST-MODIFIED:20250331T163513Z
UID:10014169-1809216000-1809302399@www.hmcshaida.com
SUMMARY:Battle of the Atlantic
DESCRIPTION:Ceremony conducted under Gantry Crane led by HMCS STAR 2-3 PM.\nVE will dress ship and possibly fire A-Gun\nJetty area will be open incl. FOH gift shop – would 10 AM work for Friends?\nStandard guided tour to be offered at specific time slots (11 AM\, 12 PM\, 1 PM\, 3:15 PM) to public
URL:https://www.hmcshaida.com/events/battle-of-the-atlantic-may-7/2027-05-02/
END:VEVENT
BEGIN:VEVENT
DTSTART;VALUE=DATE:20270504
DTEND;VALUE=DATE:20270505
DTSTAMP:20260421T205451
CREATED:20250331T163330Z
LAST-MODIFIED:20250331T163330Z
UID:10014184-1809388800-1809475199@www.hmcshaida.com
SUMMARY:Battle of the Atlantic (ship not open to visitors)
DESCRIPTION:On May 4\, HMCS Haida in Hamilton remembers the Battle of the Atlantic\, celebrating naval bravery that maintained Allied supply lines in WWII.
URL:https://www.hmcshaida.com/events/battle-of-the-atlantic-ship-not-open-to-visitors/2027-05-04/
END:VEVENT
BEGIN:VEVENT
DTSTART;VALUE=DATE:20270507
DTEND;VALUE=DATE:20270508
DTSTAMP:20260421T205451
CREATED:20230310T003758Z
LAST-MODIFIED:20230310T013953Z
UID:10009046-1809648000-1809734399@www.hmcshaida.com
SUMMARY:HMCS HAIDA departs convoy RA.66
DESCRIPTION:
URL:https://www.hmcshaida.com/events/hmcs-haida-departs-convoy-ra-66/2027-05-07/
END:VEVENT
BEGIN:VEVENT
DTSTART;VALUE=DATE:20270508
DTEND;VALUE=DATE:20270509
DTSTAMP:20260421T205451
CREATED:20230215T013348Z
LAST-MODIFIED:20230310T014631Z
UID:10008488-1809734400-1809820799@www.hmcshaida.com
SUMMARY:Convoy RA.66 arrives Clyde
DESCRIPTION:
URL:https://www.hmcshaida.com/events/convoy-ra-66-arrives-clyde-3-2/2027-05-08/
END:VEVENT
BEGIN:VEVENT
DTSTART;VALUE=DATE:20270526
DTEND;VALUE=DATE:20270527
DTSTAMP:20260421T205451
CREATED:20230310T003812Z
LAST-MODIFIED:20230310T013020Z
UID:10007626-1811289600-1811375999@www.hmcshaida.com
SUMMARY:Yang do\, Korea. HAIDA pays her “final dues” in membership to the Trainbusters Club. That is HMCS HAIDA's second train and becomes # 2 Trainbuster after HMCS CRUSADER.
DESCRIPTION:
URL:https://www.hmcshaida.com/events/yang-do-korea-haida-pays-her-final-dues-in-membership-to-the-trainbusters-club-that-is-hmcs-haidas-second-train-and-becomes-2-trainbuster-after-hmcs-crusader/2027-05-26/
END:VEVENT
BEGIN:VEVENT
DTSTART;VALUE=DATE:20270526
DTEND;VALUE=DATE:20270527
DTSTAMP:20260421T205451
CREATED:20230310T003812Z
LAST-MODIFIED:20230310T011000Z
UID:10006712-1811289600-1811375999@www.hmcshaida.com
SUMMARY:HMCS HAIDA was designated flagship of the Royal Canadian Navy
DESCRIPTION:
URL:https://www.hmcshaida.com/events/hmcs-haida-was-designated-flagship-of-the-royal-canadian-navy/2027-05-26/
END:VEVENT
BEGIN:VEVENT
DTSTART;VALUE=DATE:20270606
DTEND;VALUE=DATE:20270607
DTSTAMP:20260421T205451
CREATED:20230310T003813Z
LAST-MODIFIED:20230310T215307Z
UID:10009628-1812240000-1812326399@www.hmcshaida.com
SUMMARY:HMCS HAIDA present at D Day
DESCRIPTION:
URL:https://www.hmcshaida.com/events/hmcs-haida-present-at-d-day/2027-06-06/
END:VEVENT
BEGIN:VEVENT
DTSTART;VALUE=DATE:20270606
DTEND;VALUE=DATE:20270607
DTSTAMP:20260421T205451
CREATED:20230310T003813Z
LAST-MODIFIED:20230310T011820Z
UID:10007278-1812240000-1812326399@www.hmcshaida.com
SUMMARY:D Day 50th Anniversary Plaque presentation by Lt Gov Lincoln Alexander.
DESCRIPTION:
URL:https://www.hmcshaida.com/events/d-day-50th-anniversary-plaque-presentation-by-lt-gov-lincoln-alexander/2027-06-06/
END:VEVENT
BEGIN:VEVENT
DTSTART;VALUE=DATE:20270607
DTEND;VALUE=DATE:20270608
DTSTAMP:20260421T205451
CREATED:20230310T003813Z
LAST-MODIFIED:20230310T013320Z
UID:10008417-1812326400-1812412799@www.hmcshaida.com
SUMMARY:HMCS HAIDA departs Greenock.
DESCRIPTION:
URL:https://www.hmcshaida.com/events/hmcs-haida-departs-greenock/2027-06-07/
END:VEVENT
BEGIN:VEVENT
DTSTART;VALUE=DATE:20270609
DTEND;VALUE=DATE:20270610
DTSTAMP:20260421T205451
CREATED:20230310T003827Z
LAST-MODIFIED:20230310T215255Z
UID:10009545-1812499200-1812585599@www.hmcshaida.com
SUMMARY:Battle of Ushant. Night action\, Normandy. HMCS HAIDA and HMCS HURON destroy the German Narvik class destroyer Z 32 in a gun duel off Ile de Bas. (Captain DeWolf’s 2nd DSC.)
DESCRIPTION:
URL:https://www.hmcshaida.com/events/battle-of-ushant-night-action-normandy-hmcs-haida-and-hmcs-huron-destroy-the-german-narvik-class-destroyer-z-32-in-a-gun-duel-off-ile-de-bas-captain-dewolfs-2nd-dsc/2027-06-09/
END:VEVENT
BEGIN:VEVENT
DTSTART;VALUE=DATE:20270610
DTEND;VALUE=DATE:20270611
DTSTAMP:20260421T205451
CREATED:20230605T201341Z
LAST-MODIFIED:20230605T201341Z
UID:10014165-1812585600-1812671999@www.hmcshaida.com
SUMMARY:HMCS HAIDA arrives Halifax and begins tropicalization refit.
DESCRIPTION:
URL:https://www.hmcshaida.com/events/hmcs-haida-arrives-halifax-and-begins-tropicalization-refit-2/2027-06-10/
END:VEVENT
BEGIN:VEVENT
DTSTART;VALUE=DATE:20270612
DTEND;VALUE=DATE:20270613
DTSTAMP:20260421T205451
CREATED:20230310T003828Z
LAST-MODIFIED:20230310T013001Z
UID:10007552-1812758400-1812844799@www.hmcshaida.com
SUMMARY:HMCS HAIDA departs Korea for Halifax
DESCRIPTION:
URL:https://www.hmcshaida.com/events/hmcs-haida-departs-korea-for-halifax/2027-06-12/
END:VEVENT
BEGIN:VEVENT
DTSTART;VALUE=DATE:20270616
DTEND;VALUE=DATE:20270617
DTSTAMP:20260421T205451
CREATED:20230310T003828Z
LAST-MODIFIED:20230310T013220Z
UID:10008090-1813104000-1813190399@www.hmcshaida.com
SUMMARY:A burial at sea took place from HMCS HAIDA for Lt (A)\, Nigel Douglas Fisher\, Royal Navy\, who died when his Sea Hornet crashed into the sea off Halifax.
DESCRIPTION:
URL:https://www.hmcshaida.com/events/a-burial-at-sea-took-place-from-hmcs-haida-for-lt-a-nigel-douglas-fisher-royal-navy-who-died-when-his-sea-hornet-crashed-into-the-sea-off-halifax/2027-06-16/
END:VEVENT
BEGIN:VEVENT
DTSTART;VALUE=DATE:20270624
DTEND;VALUE=DATE:20270625
DTSTAMP:20260421T205451
CREATED:20230310T003828Z
LAST-MODIFIED:20230310T215241Z
UID:10009462-1813795200-1813881599@www.hmcshaida.com
SUMMARY:HMCS HAIDA and HMS ESKIMO sink U 971 off Land’s End.
DESCRIPTION:
URL:https://www.hmcshaida.com/events/hmcs-haida-and-hms-eskimo-sink-u-971-off-lands-end/2027-06-24/
END:VEVENT
BEGIN:VEVENT
DTSTART;VALUE=DATE:20270625
DTEND;VALUE=DATE:20270626
DTSTAMP:20260421T205451
CREATED:20250331T164526Z
LAST-MODIFIED:20250331T164526Z
UID:10014209-1813881600-1813967999@www.hmcshaida.com
SUMMARY:75th comm. Beginning of Korean War
DESCRIPTION:The 75th commemoration of the Korean War (June 25\, 2025) honours those who served and highlights the enduring Korean Peninsula division.
URL:https://www.hmcshaida.com/events/75th-comm-beginning-of-korean-war/2027-06-25/
END:VEVENT
BEGIN:VEVENT
DTSTART;VALUE=DATE:20270628
DTEND;VALUE=DATE:20270629
DTSTAMP:20260421T205451
CREATED:20230605T200713Z
LAST-MODIFIED:20230605T200713Z
UID:10014082-1814140800-1814227199@www.hmcshaida.com
SUMMARY:Ceremony aboard HMCS HAIDA to complete the twinning of HMCS HAIDA and ORP Blyskawica.
DESCRIPTION:
URL:https://www.hmcshaida.com/events/ceremony-aboard-hmcs-haida-to-complete-the-twinning-of-hmcs-haida-and-orp-blyskawica-2/2027-06-28/
END:VEVENT
BEGIN:VEVENT
DTSTART;VALUE=DATE:20270629
DTEND;VALUE=DATE:20270630
DTSTAMP:20260421T205451
CREATED:20230605T200511Z
LAST-MODIFIED:20230605T200511Z
UID:10007384-1814227200-1814313599@www.hmcshaida.com
SUMMARY:At Government House in Nova Scotia\, Prince Philip\, Duke of Edinburgh\, presented to representatives of HMCS HAIDA the World Ship Trust Certificate.
DESCRIPTION:
URL:https://www.hmcshaida.com/events/at-government-house-in-nova-scotia-prince-philip-duke-of-edinburgh-presented-to-representatives-of-hmcs-haida-the-world-ship-trust-certificate-2/2027-06-29/
END:VEVENT
BEGIN:VEVENT
DTSTART;VALUE=DATE:20270806
DTEND;VALUE=DATE:20270807
DTSTAMP:20260421T205451
CREATED:20230310T003843Z
LAST-MODIFIED:20230310T215217Z
UID:10009378-1817510400-1817596799@www.hmcshaida.com
SUMMARY:HMCS HAIDA sinks German minesweeper M486 off Ile d’Yeu\, Bay of Biscay. LS R.H. Betts\, and AB G.J. Rowe\, both killed in action Aug 6\, 1944. A/S Kerwin awarded the Conspicuous Gallantry Medal. (This was the second CGM awarded to the RCN. The first was Max Bernay’s on August 6\, 1942).
DESCRIPTION:
URL:https://www.hmcshaida.com/events/hmcs-haida-sinks-german-minesweeper-m486-off-ile-dyeu-bay-of-biscay-ls-r-h-betts-and-ab-g-j-rowe-both-killed-in-action-aug-6-1944-a-s-kerwin-awarded-the-conspicuous-gallantry-medal/2027-08-06/
END:VEVENT
BEGIN:VEVENT
DTSTART;VALUE=DATE:20270822
DTEND;VALUE=DATE:20270823
DTSTAMP:20260421T205451
CREATED:20230605T200328Z
LAST-MODIFIED:20230605T200402Z
UID:10014048-1818892800-1818979199@www.hmcshaida.com
SUMMARY:HMCS HAIDA arrives in Halifax from Korea.
DESCRIPTION:
URL:https://www.hmcshaida.com/events/hmcs-haida-arrives-in-halifax-from-korea-2-2/2027-08-22/
END:VEVENT
BEGIN:VEVENT
DTSTART;TZID=America/Halifax:20270823T110000
DTEND;TZID=America/Halifax:20270823T160000
DTSTAMP:20260421T205451
CREATED:20250331T164023Z
LAST-MODIFIED:20250815T181034Z
UID:10014232-1819018800-1819036800@www.hmcshaida.com
SUMMARY:82nd Ship’s Birthday
DESCRIPTION:when  do you need the invoices? \n 
URL:https://www.hmcshaida.com/events/82nd-ships-birthday/2027-08-23/
LOCATION:HMCS Haida National Historic Site\, Pier 9-658 Catharine St N\, Hamilton\, Ontario\, L8L 8K4\, Canada
END:VEVENT
BEGIN:VEVENT
DTSTART;VALUE=DATE:20270825
DTEND;VALUE=DATE:20270826
DTSTAMP:20260421T205451
CREATED:20230310T003843Z
LAST-MODIFIED:20230605T200128Z
UID:10013899-1819152000-1819238399@www.hmcshaida.com
SUMMARY:HMCS HAIDA launched by Lady Laurie.
DESCRIPTION:
URL:https://www.hmcshaida.com/events/hmcs-haida-launched-by-lady-laurie/2027-08-25/
END:VEVENT
BEGIN:VEVENT
DTSTART;VALUE=DATE:20270825
DTEND;VALUE=DATE:20270826
DTSTAMP:20260421T205451
CREATED:20230310T003845Z
LAST-MODIFIED:20230310T011742Z
UID:10007208-1819152000-1819238399@www.hmcshaida.com
SUMMARY:HMCS HAIDA arrives at Pier Six in Toronto.
DESCRIPTION:
URL:https://www.hmcshaida.com/events/hmcs-haida-arrives-at-pier-six-in-toronto/2027-08-25/
END:VEVENT
BEGIN:VEVENT
DTSTART;VALUE=DATE:20270830
DTEND;VALUE=DATE:20270831
DTSTAMP:20260421T205451
CREATED:20230310T003845Z
LAST-MODIFIED:20230605T200000Z
UID:10013814-1819584000-1819670399@www.hmcshaida.com
SUMMARY:HMCS HAIDA commissioned at Newcastle on Tyne. Cdr Henry George DeWolf appointed Commanding Officer
DESCRIPTION:
URL:https://www.hmcshaida.com/events/hmcs-haida-commissioned-at-newcastle-on-tyne-cdr-henry-george-dewolf-appointed-commanding-officer/2027-08-30/
END:VEVENT
BEGIN:VEVENT
DTSTART;VALUE=DATE:20270830
DTEND;VALUE=DATE:20270831
DTSTAMP:20260421T205451
CREATED:20230310T003845Z
LAST-MODIFIED:20230310T011854Z
UID:10007328-1819584000-1819670399@www.hmcshaida.com
SUMMARY:HMCS HAIDA moved to Pier 9\, Hamilton\, Ontario.
DESCRIPTION:
URL:https://www.hmcshaida.com/events/hmcs-haida-moved-to-pier-9-hamilton-ontario/2027-08-30/
END:VEVENT
BEGIN:VEVENT
DTSTART;VALUE=DATE:20270830
DTEND;VALUE=DATE:20270831
DTSTAMP:20260421T205451
CREATED:20230310T003845Z
LAST-MODIFIED:20230310T011758Z
UID:10007245-1819584000-1819670399@www.hmcshaida.com
SUMMARY:HMCS HAIDA designated as a National Historic Site.
DESCRIPTION:
URL:https://www.hmcshaida.com/events/hmcs-haida-designated-as-a-national-historic-site/2027-08-30/
END:VEVENT
BEGIN:VEVENT
DTSTART;VALUE=DATE:20270830
DTEND;VALUE=DATE:20270831
DTSTAMP:20260421T205451
CREATED:20230310T003845Z
LAST-MODIFIED:20230310T011835Z
UID:10007304-1819584000-1819670399@www.hmcshaida.com
SUMMARY:15 Gun Salute for the burial of Vice Admiral DeWolf. HMCS Haida fired the salute to him as he was being buried in Bedford Basin.
DESCRIPTION:
URL:https://www.hmcshaida.com/events/15-gun-salute-for-the-burial-of-vice-admiral-dewolf-hmcs-haida-fired-the-salute-to-him-as-he-was-being-buried-in-bedford-basin/2027-08-30/
END:VEVENT
END:VCALENDAR