   BEGIN:VCALENDAR
VERSION:2.0
PRODID:-//Hmcshaida - ECPv6.15.11//NONSGML v1.0//EN
CALSCALE:GREGORIAN
METHOD:PUBLISH
X-ORIGINAL-URL:https://www.hmcshaida.com
X-WR-CALDESC:Events for Hmcshaida
REFRESH-INTERVAL;VALUE=DURATION:PT1H
X-Robots-Tag:noindex
X-PUBLISHED-TTL:PT1H
BEGIN:VTIMEZONE
TZID:UTC
BEGIN:STANDARD
TZOFFSETFROM:+0000
TZOFFSETTO:+0000
TZNAME:UTC
DTSTART:20220101T000000
END:STANDARD
END:VTIMEZONE
BEGIN:VTIMEZONE
TZID:America/Halifax
BEGIN:DAYLIGHT
TZOFFSETFROM:-0400
TZOFFSETTO:-0300
TZNAME:ADT
DTSTART:20220313T060000
END:DAYLIGHT
BEGIN:STANDARD
TZOFFSETFROM:-0300
TZOFFSETTO:-0400
TZNAME:AST
DTSTART:20221106T050000
END:STANDARD
BEGIN:DAYLIGHT
TZOFFSETFROM:-0400
TZOFFSETTO:-0300
TZNAME:ADT
DTSTART:20230312T060000
END:DAYLIGHT
BEGIN:STANDARD
TZOFFSETFROM:-0300
TZOFFSETTO:-0400
TZNAME:AST
DTSTART:20231105T050000
END:STANDARD
BEGIN:DAYLIGHT
TZOFFSETFROM:-0400
TZOFFSETTO:-0300
TZNAME:ADT
DTSTART:20240310T060000
END:DAYLIGHT
BEGIN:STANDARD
TZOFFSETFROM:-0300
TZOFFSETTO:-0400
TZNAME:AST
DTSTART:20241103T050000
END:STANDARD
BEGIN:DAYLIGHT
TZOFFSETFROM:-0400
TZOFFSETTO:-0300
TZNAME:ADT
DTSTART:20250309T060000
END:DAYLIGHT
BEGIN:STANDARD
TZOFFSETFROM:-0300
TZOFFSETTO:-0400
TZNAME:AST
DTSTART:20251102T050000
END:STANDARD
END:VTIMEZONE
BEGIN:VEVENT
DTSTART;VALUE=DATE:20231220
DTEND;VALUE=DATE:20231221
DTSTAMP:20260421T141620
CREATED:20230310T003930Z
LAST-MODIFIED:20230605T184658Z
UID:10012556-1703030400-1703116799@www.hmcshaida.com
SUMMARY:Convoy JW.55B departs Lock Ewe.
DESCRIPTION:
URL:https://www.hmcshaida.com/events/convoy-jw-55b-departs-lock-ewe/2023-12-20/
END:VEVENT
BEGIN:VEVENT
DTSTART;VALUE=DATE:20231222
DTEND;VALUE=DATE:20231223
DTSTAMP:20260421T141620
CREATED:20230310T003931Z
LAST-MODIFIED:20230310T215616Z
UID:10010627-1703203200-1703289599@www.hmcshaida.com
SUMMARY:HMCS HAIDA joins convoy JW.55B.
DESCRIPTION:
URL:https://www.hmcshaida.com/events/hmcs-haida-joins-convoy-jw-55b/2023-12-22/
END:VEVENT
BEGIN:VEVENT
DTSTART;VALUE=DATE:20231226
DTEND;VALUE=DATE:20231227
DTSTAMP:20260421T141620
CREATED:20230605T182422Z
LAST-MODIFIED:20230605T182422Z
UID:10011822-1703548800-1703635199@www.hmcshaida.com
SUMMARY:Battle of North Cape and the destruction of the German battlecruiser Scharnhorst. HMCS HAIDA was the stern escort for JW55B. HMCS HAIDA came within twelve miles of miles of Scharnhorst’s forward destroyer escort.
DESCRIPTION:
URL:https://www.hmcshaida.com/events/battle-of-north-cape-and-the-destruction-of-the-german-battlecruiser-scharnhorst-hmcs-haida-was-the-stern-escort-for-jw55b-hmcs-haida-came-within-twelve-miles-of-miles-of-scharnhorsts-forwa-3/2023-12-26/
END:VEVENT
BEGIN:VEVENT
DTSTART;VALUE=DATE:20231229
DTEND;VALUE=DATE:20231230
DTSTAMP:20260421T141620
CREATED:20230310T003931Z
LAST-MODIFIED:20230310T215549Z
UID:10010459-1703808000-1703894399@www.hmcshaida.com
SUMMARY:HMCS HAIDA departs convoy JW.55B.
DESCRIPTION:
URL:https://www.hmcshaida.com/events/hmcs-haida-departs-convoy-jw-55b/2023-12-29/
END:VEVENT
BEGIN:VEVENT
DTSTART;VALUE=DATE:20231230
DTEND;VALUE=DATE:20231231
DTSTAMP:20260421T141620
CREATED:20230310T003931Z
LAST-MODIFIED:20230310T215533Z
UID:10010375-1703894400-1703980799@www.hmcshaida.com
SUMMARY:Convoy RA.55B departs Kola Inlet.
DESCRIPTION:
URL:https://www.hmcshaida.com/events/convoy-ra-55b-departs-kola-inlet/2023-12-30/
END:VEVENT
BEGIN:VEVENT
DTSTART;VALUE=DATE:20231231
DTEND;VALUE=DATE:20240101
DTSTAMP:20260421T141620
CREATED:20230310T003931Z
LAST-MODIFIED:20230310T215520Z
UID:10010291-1703980800-1704067199@www.hmcshaida.com
SUMMARY:HMCS HAIDA joins convoy RA.55B as escort.
DESCRIPTION:
URL:https://www.hmcshaida.com/events/hmcs-haida-joins-convoy-ra-55b-as-escort/2023-12-31/
END:VEVENT
BEGIN:VEVENT
DTSTART;VALUE=DATE:20240107
DTEND;VALUE=DATE:20240108
DTSTAMP:20260421T141620
CREATED:20230310T003942Z
LAST-MODIFIED:20230310T215508Z
UID:10010207-1704585600-1704671999@www.hmcshaida.com
SUMMARY:HMCS HAIDA departs convoy RA.55B.
DESCRIPTION:
URL:https://www.hmcshaida.com/events/hmcs-haida-departs-convoy-ra-55b/2024-01-07/
END:VEVENT
BEGIN:VEVENT
DTSTART;VALUE=DATE:20240108
DTEND;VALUE=DATE:20240109
DTSTAMP:20260421T141620
CREATED:20230310T003942Z
LAST-MODIFIED:20230310T215455Z
UID:10010123-1704672000-1704758399@www.hmcshaida.com
SUMMARY:Convoy RA.55B arrives at Loch Ewe.
DESCRIPTION:
URL:https://www.hmcshaida.com/events/convoy-ra-55b-arrives-at-loch-ewe/2024-01-08/
END:VEVENT
BEGIN:VEVENT
DTSTART;VALUE=DATE:20240317
DTEND;VALUE=DATE:20240318
DTSTAMP:20260421T141620
CREATED:20230310T003738Z
LAST-MODIFIED:20230310T013148Z
UID:10007930-1710633600-1710719999@www.hmcshaida.com
SUMMARY:Commissioning of HMCS HAIDA as DDE 215. HAIDA is the first vessel of all Commonwealth navies to commission under Queen Elizabeth II.
DESCRIPTION:
URL:https://www.hmcshaida.com/events/commissioning-of-hmcs-haida-as-dde-215-haida-is-the-first-vessel-of-all-commonwealth-navies-to-commission-under-queen-elizabeth-ii/2024-03-17/
END:VEVENT
BEGIN:VEVENT
DTSTART;VALUE=DATE:20240320
DTEND;VALUE=DATE:20240321
DTSTAMP:20260421T141620
CREATED:20230605T165209Z
LAST-MODIFIED:20230605T165209Z
UID:10011113-1710892800-1710979199@www.hmcshaida.com
SUMMARY:HMCS HAIDA paid off to refit.
DESCRIPTION:
URL:https://www.hmcshaida.com/events/hmcs-haida-paid-off-to-refit-2/2024-03-20/
END:VEVENT
BEGIN:VEVENT
DTSTART;VALUE=DATE:20240405
DTEND;VALUE=DATE:20240406
DTSTAMP:20260421T141620
CREATED:20230605T165359Z
LAST-MODIFIED:20230605T165359Z
UID:10011202-1712275200-1712361599@www.hmcshaida.com
SUMMARY:HMCS HAIDA ordered from the Vicker_Armstrong Yards on the Tyne
DESCRIPTION:
URL:https://www.hmcshaida.com/events/hmcs-haida-ordered-from-the-vicker_armstrong-yards-on-the-tyne-2/2024-04-05/
END:VEVENT
BEGIN:VEVENT
DTSTART;VALUE=DATE:20240416
DTEND;VALUE=DATE:20240417
DTSTAMP:20260421T141621
CREATED:20230605T165556Z
LAST-MODIFIED:20230605T165556Z
UID:10011286-1713225600-1713311999@www.hmcshaida.com
SUMMARY:Convoy JW.66 departs Clyde
DESCRIPTION:
URL:https://www.hmcshaida.com/events/convoy-jw-66-departs-clyde-2/2024-04-16/
END:VEVENT
BEGIN:VEVENT
DTSTART;VALUE=DATE:20240418
DTEND;VALUE=DATE:20240419
DTSTAMP:20260421T141621
CREATED:20230605T165654Z
LAST-MODIFIED:20230605T165654Z
UID:10011370-1713398400-1713484799@www.hmcshaida.com
SUMMARY:HMCS HAIDA\, HMCS HURON and HMCS IROQUOIS depart Clyde and join with convoy JW.66
DESCRIPTION:
URL:https://www.hmcshaida.com/events/hmcs-haida-hmcs-huron-and-hmcs-iroquois-depart-clyde-and-join-with-convoy-jw-66-3/2024-04-18/
END:VEVENT
BEGIN:VEVENT
DTSTART;VALUE=DATE:20240425
DTEND;VALUE=DATE:20240426
DTSTAMP:20260421T141621
CREATED:20230605T170033Z
LAST-MODIFIED:20230605T170033Z
UID:10011454-1714003200-1714089599@www.hmcshaida.com
SUMMARY:convoy JW.66 arrives at Kola Inlet\, HMCS HAIDA departs convoy
DESCRIPTION:
URL:https://www.hmcshaida.com/events/convoy-jw-66-arrives-at-kola-inlet-hmcs-haida-departs-convoy-3/2024-04-25/
END:VEVENT
BEGIN:VEVENT
DTSTART;VALUE=DATE:20240429
DTEND;VALUE=DATE:20240430
DTSTAMP:20260421T141621
CREATED:20230310T003743Z
LAST-MODIFIED:20230310T215323Z
UID:10009708-1714348800-1714435199@www.hmcshaida.com
SUMMARY:HMCS HAIDA involved in rescue of HMCS ATHABASKAN
DESCRIPTION:
URL:https://www.hmcshaida.com/events/hmcs-haida-involved-in-rescue-of-hmcs-athabaskan-2/2024-04-29/
END:VEVENT
BEGIN:VEVENT
DTSTART;VALUE=DATE:20240429
DTEND;VALUE=DATE:20240430
DTSTAMP:20260421T141621
CREATED:20230310T003757Z
LAST-MODIFIED:20230310T013501Z
UID:10008633-1714348800-1714435199@www.hmcshaida.com
SUMMARY:HMCS HAIDA\, HMCS HURON and HMCS IROQUOIS depart Kola Inlet for Clyde with convoy RA.66.
DESCRIPTION:
URL:https://www.hmcshaida.com/events/hmcs-haida-hmcs-huron-and-hmcs-iroquois-depart-kola-inlet-for-clyde-with-convoy-ra-66/2024-04-29/
END:VEVENT
BEGIN:VEVENT
DTSTART;VALUE=DATE:20240429
DTEND;VALUE=DATE:20240430
DTSTAMP:20260421T141621
CREATED:20230310T003757Z
LAST-MODIFIED:20230310T013518Z
UID:10008715-1714348800-1714435199@www.hmcshaida.com
SUMMARY:HMCS HAIDA and HMCS IROQUOIS were attacked by U_427. The attack resulted in near misses by U_427. The last convoy battle of WW2.
DESCRIPTION:
URL:https://www.hmcshaida.com/events/hmcs-haida-and-hmcs-iroquois-were-attacked-by-u_427-the-attack-resulted-in-near-misses-by-u_427-the-last-convoy-battle-of-ww2/2024-04-29/
END:VEVENT
BEGIN:VEVENT
DTSTART;VALUE=DATE:20240501
DTEND;VALUE=DATE:20240502
DTSTAMP:20260421T141621
CREATED:20230310T003758Z
LAST-MODIFIED:20230310T010730Z
UID:10006700-1714521600-1714607999@www.hmcshaida.com
SUMMARY:78th anniversary of the Battle of the Atlantic
DESCRIPTION:
URL:https://www.hmcshaida.com/events/78th-anniversary-of-the-battle-of-the-atlantic-4/2024-05-01/
END:VEVENT
BEGIN:VEVENT
DTSTART;VALUE=DATE:20240505
DTEND;VALUE=DATE:20240506
DTSTAMP:20260421T141621
CREATED:20230426T204833Z
LAST-MODIFIED:20250331T163513Z
UID:10014166-1714867200-1714953599@www.hmcshaida.com
SUMMARY:Battle of the Atlantic
DESCRIPTION:Ceremony conducted under Gantry Crane led by HMCS STAR 2-3 PM.\nVE will dress ship and possibly fire A-Gun\nJetty area will be open incl. FOH gift shop – would 10 AM work for Friends?\nStandard guided tour to be offered at specific time slots (11 AM\, 12 PM\, 1 PM\, 3:15 PM) to public
URL:https://www.hmcshaida.com/events/battle-of-the-atlantic-may-7/2024-05-05/
END:VEVENT
BEGIN:VEVENT
DTSTART;VALUE=DATE:20240507
DTEND;VALUE=DATE:20240508
DTSTAMP:20260421T141621
CREATED:20230310T003758Z
LAST-MODIFIED:20230310T013953Z
UID:10009043-1715040000-1715126399@www.hmcshaida.com
SUMMARY:HMCS HAIDA departs convoy RA.66
DESCRIPTION:
URL:https://www.hmcshaida.com/events/hmcs-haida-departs-convoy-ra-66/2024-05-07/
END:VEVENT
BEGIN:VEVENT
DTSTART;VALUE=DATE:20240508
DTEND;VALUE=DATE:20240509
DTSTAMP:20260421T141621
CREATED:20230215T013348Z
LAST-MODIFIED:20230310T014631Z
UID:10008485-1715126400-1715212799@www.hmcshaida.com
SUMMARY:Convoy RA.66 arrives Clyde
DESCRIPTION:
URL:https://www.hmcshaida.com/events/convoy-ra-66-arrives-clyde-3-2/2024-05-08/
END:VEVENT
BEGIN:VEVENT
DTSTART;VALUE=DATE:20240526
DTEND;VALUE=DATE:20240527
DTSTAMP:20260421T141621
CREATED:20230310T003812Z
LAST-MODIFIED:20230310T013020Z
UID:10007623-1716681600-1716767999@www.hmcshaida.com
SUMMARY:Yang do\, Korea. HAIDA pays her “final dues” in membership to the Trainbusters Club. That is HMCS HAIDA's second train and becomes # 2 Trainbuster after HMCS CRUSADER.
DESCRIPTION:
URL:https://www.hmcshaida.com/events/yang-do-korea-haida-pays-her-final-dues-in-membership-to-the-trainbusters-club-that-is-hmcs-haidas-second-train-and-becomes-2-trainbuster-after-hmcs-crusader/2024-05-26/
END:VEVENT
BEGIN:VEVENT
DTSTART;VALUE=DATE:20240526
DTEND;VALUE=DATE:20240527
DTSTAMP:20260421T141621
CREATED:20230310T003812Z
LAST-MODIFIED:20230310T011000Z
UID:10006709-1716681600-1716767999@www.hmcshaida.com
SUMMARY:HMCS HAIDA was designated flagship of the Royal Canadian Navy
DESCRIPTION:
URL:https://www.hmcshaida.com/events/hmcs-haida-was-designated-flagship-of-the-royal-canadian-navy/2024-05-26/
END:VEVENT
BEGIN:VEVENT
DTSTART;VALUE=DATE:20240603
DTEND;VALUE=DATE:20240604
DTSTAMP:20260421T141621
CREATED:20230310T003813Z
LAST-MODIFIED:20230310T013320Z
UID:10008414-1717372800-1717459199@www.hmcshaida.com
SUMMARY:HMCS HAIDA departs Greenock.
DESCRIPTION:
URL:https://www.hmcshaida.com/events/hmcs-haida-departs-greenock/2024-06-03/
END:VEVENT
BEGIN:VEVENT
DTSTART;VALUE=DATE:20240606
DTEND;VALUE=DATE:20240607
DTSTAMP:20260421T141621
CREATED:20230310T003813Z
LAST-MODIFIED:20230310T215307Z
UID:10009625-1717632000-1717718399@www.hmcshaida.com
SUMMARY:HMCS HAIDA present at D Day
DESCRIPTION:
URL:https://www.hmcshaida.com/events/hmcs-haida-present-at-d-day/2024-06-06/
END:VEVENT
BEGIN:VEVENT
DTSTART;VALUE=DATE:20240606
DTEND;VALUE=DATE:20240607
DTSTAMP:20260421T141621
CREATED:20230310T003813Z
LAST-MODIFIED:20230310T011820Z
UID:10007275-1717632000-1717718399@www.hmcshaida.com
SUMMARY:D Day 50th Anniversary Plaque presentation by Lt Gov Lincoln Alexander.
DESCRIPTION:
URL:https://www.hmcshaida.com/events/d-day-50th-anniversary-plaque-presentation-by-lt-gov-lincoln-alexander/2024-06-06/
END:VEVENT
BEGIN:VEVENT
DTSTART;VALUE=DATE:20240609
DTEND;VALUE=DATE:20240610
DTSTAMP:20260421T141621
CREATED:20230310T003827Z
LAST-MODIFIED:20230310T215255Z
UID:10009542-1717891200-1717977599@www.hmcshaida.com
SUMMARY:Battle of Ushant. Night action\, Normandy. HMCS HAIDA and HMCS HURON destroy the German Narvik class destroyer Z 32 in a gun duel off Ile de Bas. (Captain DeWolf’s 2nd DSC.)
DESCRIPTION:
URL:https://www.hmcshaida.com/events/battle-of-ushant-night-action-normandy-hmcs-haida-and-hmcs-huron-destroy-the-german-narvik-class-destroyer-z-32-in-a-gun-duel-off-ile-de-bas-captain-dewolfs-2nd-dsc/2024-06-09/
END:VEVENT
BEGIN:VEVENT
DTSTART;VALUE=DATE:20240610
DTEND;VALUE=DATE:20240611
DTSTAMP:20260421T141621
CREATED:20230605T201341Z
LAST-MODIFIED:20230605T201341Z
UID:10014162-1717977600-1718063999@www.hmcshaida.com
SUMMARY:HMCS HAIDA arrives Halifax and begins tropicalization refit.
DESCRIPTION:
URL:https://www.hmcshaida.com/events/hmcs-haida-arrives-halifax-and-begins-tropicalization-refit-2/2024-06-10/
END:VEVENT
BEGIN:VEVENT
DTSTART;VALUE=DATE:20240612
DTEND;VALUE=DATE:20240613
DTSTAMP:20260421T141621
CREATED:20230310T003828Z
LAST-MODIFIED:20230310T013001Z
UID:10007549-1718150400-1718236799@www.hmcshaida.com
SUMMARY:HMCS HAIDA departs Korea for Halifax
DESCRIPTION:
URL:https://www.hmcshaida.com/events/hmcs-haida-departs-korea-for-halifax/2024-06-12/
END:VEVENT
BEGIN:VEVENT
DTSTART;VALUE=DATE:20240616
DTEND;VALUE=DATE:20240617
DTSTAMP:20260421T141621
CREATED:20230310T003828Z
LAST-MODIFIED:20230310T013220Z
UID:10008087-1718496000-1718582399@www.hmcshaida.com
SUMMARY:A burial at sea took place from HMCS HAIDA for Lt (A)\, Nigel Douglas Fisher\, Royal Navy\, who died when his Sea Hornet crashed into the sea off Halifax.
DESCRIPTION:
URL:https://www.hmcshaida.com/events/a-burial-at-sea-took-place-from-hmcs-haida-for-lt-a-nigel-douglas-fisher-royal-navy-who-died-when-his-sea-hornet-crashed-into-the-sea-off-halifax/2024-06-16/
END:VEVENT
END:VCALENDAR