   BEGIN:VCALENDAR
VERSION:2.0
PRODID:-//Hmcshaida - ECPv6.15.11//NONSGML v1.0//EN
CALSCALE:GREGORIAN
METHOD:PUBLISH
X-ORIGINAL-URL:https://www.hmcshaida.com
X-WR-CALDESC:Events for Hmcshaida
REFRESH-INTERVAL;VALUE=DURATION:PT1H
X-Robots-Tag:noindex
X-PUBLISHED-TTL:PT1H
BEGIN:VTIMEZONE
TZID:America/Halifax
BEGIN:DAYLIGHT
TZOFFSETFROM:-0400
TZOFFSETTO:-0300
TZNAME:ADT
DTSTART:20250309T060000
END:DAYLIGHT
BEGIN:STANDARD
TZOFFSETFROM:-0300
TZOFFSETTO:-0400
TZNAME:AST
DTSTART:20251102T050000
END:STANDARD
BEGIN:DAYLIGHT
TZOFFSETFROM:-0400
TZOFFSETTO:-0300
TZNAME:ADT
DTSTART:20260308T060000
END:DAYLIGHT
BEGIN:STANDARD
TZOFFSETFROM:-0300
TZOFFSETTO:-0400
TZNAME:AST
DTSTART:20261101T050000
END:STANDARD
BEGIN:DAYLIGHT
TZOFFSETFROM:-0400
TZOFFSETTO:-0300
TZNAME:ADT
DTSTART:20270314T060000
END:DAYLIGHT
BEGIN:STANDARD
TZOFFSETFROM:-0300
TZOFFSETTO:-0400
TZNAME:AST
DTSTART:20271107T050000
END:STANDARD
END:VTIMEZONE
BEGIN:VTIMEZONE
TZID:UTC
BEGIN:STANDARD
TZOFFSETFROM:+0000
TZOFFSETTO:+0000
TZNAME:UTC
DTSTART:20250101T000000
END:STANDARD
END:VTIMEZONE
BEGIN:VEVENT
DTSTART;VALUE=DATE:20260625
DTEND;VALUE=DATE:20260626
DTSTAMP:20260424T204220
CREATED:20250331T164526Z
LAST-MODIFIED:20250331T164526Z
UID:10014208-1782345600-1782431999@www.hmcshaida.com
SUMMARY:75th comm. Beginning of Korean War
DESCRIPTION:The 75th commemoration of the Korean War (June 25\, 2025) honours those who served and highlights the enduring Korean Peninsula division.
URL:https://www.hmcshaida.com/events/75th-comm-beginning-of-korean-war/2026-06-25/
END:VEVENT
BEGIN:VEVENT
DTSTART;VALUE=DATE:20260628
DTEND;VALUE=DATE:20260629
DTSTAMP:20260424T204220
CREATED:20230605T200713Z
LAST-MODIFIED:20230605T200713Z
UID:10014081-1782604800-1782691199@www.hmcshaida.com
SUMMARY:Ceremony aboard HMCS HAIDA to complete the twinning of HMCS HAIDA and ORP Blyskawica.
DESCRIPTION:
URL:https://www.hmcshaida.com/events/ceremony-aboard-hmcs-haida-to-complete-the-twinning-of-hmcs-haida-and-orp-blyskawica-2/2026-06-28/
END:VEVENT
BEGIN:VEVENT
DTSTART;VALUE=DATE:20260629
DTEND;VALUE=DATE:20260630
DTSTAMP:20260424T204220
CREATED:20230605T200511Z
LAST-MODIFIED:20230605T200511Z
UID:10007383-1782691200-1782777599@www.hmcshaida.com
SUMMARY:At Government House in Nova Scotia\, Prince Philip\, Duke of Edinburgh\, presented to representatives of HMCS HAIDA the World Ship Trust Certificate.
DESCRIPTION:
URL:https://www.hmcshaida.com/events/at-government-house-in-nova-scotia-prince-philip-duke-of-edinburgh-presented-to-representatives-of-hmcs-haida-the-world-ship-trust-certificate-2/2026-06-29/
END:VEVENT
BEGIN:VEVENT
DTSTART;VALUE=DATE:20260806
DTEND;VALUE=DATE:20260807
DTSTAMP:20260424T204220
CREATED:20230310T003843Z
LAST-MODIFIED:20230310T215217Z
UID:10009377-1785974400-1786060799@www.hmcshaida.com
SUMMARY:HMCS HAIDA sinks German minesweeper M486 off Ile d’Yeu\, Bay of Biscay. LS R.H. Betts\, and AB G.J. Rowe\, both killed in action Aug 6\, 1944. A/S Kerwin awarded the Conspicuous Gallantry Medal. (This was the second CGM awarded to the RCN. The first was Max Bernay’s on August 6\, 1942).
DESCRIPTION:
URL:https://www.hmcshaida.com/events/hmcs-haida-sinks-german-minesweeper-m486-off-ile-dyeu-bay-of-biscay-ls-r-h-betts-and-ab-g-j-rowe-both-killed-in-action-aug-6-1944-a-s-kerwin-awarded-the-conspicuous-gallantry-medal/2026-08-06/
END:VEVENT
BEGIN:VEVENT
DTSTART;VALUE=DATE:20260822
DTEND;VALUE=DATE:20260823
DTSTAMP:20260424T204220
CREATED:20230605T200328Z
LAST-MODIFIED:20230605T200402Z
UID:10014047-1787356800-1787443199@www.hmcshaida.com
SUMMARY:HMCS HAIDA arrives in Halifax from Korea.
DESCRIPTION:
URL:https://www.hmcshaida.com/events/hmcs-haida-arrives-in-halifax-from-korea-2-2/2026-08-22/
END:VEVENT
BEGIN:VEVENT
DTSTART;TZID=America/Halifax:20260823T110000
DTEND;TZID=America/Halifax:20260823T160000
DTSTAMP:20260424T204220
CREATED:20250331T164023Z
LAST-MODIFIED:20250815T181034Z
UID:10014231-1787482800-1787500800@www.hmcshaida.com
SUMMARY:82nd Ship’s Birthday
DESCRIPTION:when  do you need the invoices? \n 
URL:https://www.hmcshaida.com/events/82nd-ships-birthday/2026-08-23/
LOCATION:HMCS Haida National Historic Site\, Pier 9-658 Catharine St N\, Hamilton\, Ontario\, L8L 8K4\, Canada
END:VEVENT
BEGIN:VEVENT
DTSTART;VALUE=DATE:20260825
DTEND;VALUE=DATE:20260826
DTSTAMP:20260424T204220
CREATED:20230310T003843Z
LAST-MODIFIED:20230605T200128Z
UID:10013898-1787616000-1787702399@www.hmcshaida.com
SUMMARY:HMCS HAIDA launched by Lady Laurie.
DESCRIPTION:
URL:https://www.hmcshaida.com/events/hmcs-haida-launched-by-lady-laurie/2026-08-25/
END:VEVENT
BEGIN:VEVENT
DTSTART;VALUE=DATE:20260825
DTEND;VALUE=DATE:20260826
DTSTAMP:20260424T204220
CREATED:20230310T003845Z
LAST-MODIFIED:20230310T011742Z
UID:10007207-1787616000-1787702399@www.hmcshaida.com
SUMMARY:HMCS HAIDA arrives at Pier Six in Toronto.
DESCRIPTION:
URL:https://www.hmcshaida.com/events/hmcs-haida-arrives-at-pier-six-in-toronto/2026-08-25/
END:VEVENT
BEGIN:VEVENT
DTSTART;VALUE=DATE:20260830
DTEND;VALUE=DATE:20260831
DTSTAMP:20260424T204220
CREATED:20230310T003845Z
LAST-MODIFIED:20230605T200000Z
UID:10013813-1788048000-1788134399@www.hmcshaida.com
SUMMARY:HMCS HAIDA commissioned at Newcastle on Tyne. Cdr Henry George DeWolf appointed Commanding Officer
DESCRIPTION:
URL:https://www.hmcshaida.com/events/hmcs-haida-commissioned-at-newcastle-on-tyne-cdr-henry-george-dewolf-appointed-commanding-officer/2026-08-30/
END:VEVENT
BEGIN:VEVENT
DTSTART;VALUE=DATE:20260830
DTEND;VALUE=DATE:20260831
DTSTAMP:20260424T204220
CREATED:20230310T003845Z
LAST-MODIFIED:20230310T011854Z
UID:10007327-1788048000-1788134399@www.hmcshaida.com
SUMMARY:HMCS HAIDA moved to Pier 9\, Hamilton\, Ontario.
DESCRIPTION:
URL:https://www.hmcshaida.com/events/hmcs-haida-moved-to-pier-9-hamilton-ontario/2026-08-30/
END:VEVENT
BEGIN:VEVENT
DTSTART;VALUE=DATE:20260830
DTEND;VALUE=DATE:20260831
DTSTAMP:20260424T204220
CREATED:20230310T003845Z
LAST-MODIFIED:20230310T011758Z
UID:10007244-1788048000-1788134399@www.hmcshaida.com
SUMMARY:HMCS HAIDA designated as a National Historic Site.
DESCRIPTION:
URL:https://www.hmcshaida.com/events/hmcs-haida-designated-as-a-national-historic-site/2026-08-30/
END:VEVENT
BEGIN:VEVENT
DTSTART;VALUE=DATE:20260830
DTEND;VALUE=DATE:20260831
DTSTAMP:20260424T204220
CREATED:20230310T003845Z
LAST-MODIFIED:20230310T011835Z
UID:10007303-1788048000-1788134399@www.hmcshaida.com
SUMMARY:15 Gun Salute for the burial of Vice Admiral DeWolf. HMCS Haida fired the salute to him as he was being buried in Bedford Basin.
DESCRIPTION:
URL:https://www.hmcshaida.com/events/15-gun-salute-for-the-burial-of-vice-admiral-dewolf-hmcs-haida-fired-the-salute-to-him-as-he-was-being-buried-in-bedford-basin/2026-08-30/
END:VEVENT
BEGIN:VEVENT
DTSTART;VALUE=DATE:20260902
DTEND;VALUE=DATE:20260903
DTSTAMP:20260424T204220
CREATED:20230310T003857Z
LAST-MODIFIED:20230310T013248Z
UID:10008252-1788307200-1788393599@www.hmcshaida.com
SUMMARY:LCdr Robert Phillip Welland departs as Commanding Officer.
DESCRIPTION:
URL:https://www.hmcshaida.com/events/lcdr-robert-phillip-welland-departs-as-commanding-officer/2026-09-02/
END:VEVENT
BEGIN:VEVENT
DTSTART;VALUE=DATE:20260912
DTEND;VALUE=DATE:20260913
DTSTAMP:20260424T204220
CREATED:20230310T003858Z
LAST-MODIFIED:20230310T011644Z
UID:10007006-1789171200-1789257599@www.hmcshaida.com
SUMMARY:HMCS HAIDA departs Korea for Halifax after completing her U.N. assignment.
DESCRIPTION:
URL:https://www.hmcshaida.com/events/hmcs-haida-departs-korea-for-halifax-after-completing-her-u-n-assignment/2026-09-12/
END:VEVENT
BEGIN:VEVENT
DTSTART;VALUE=DATE:20260927
DTEND;VALUE=DATE:20260928
DTSTAMP:20260424T204220
CREATED:20230605T192120Z
LAST-MODIFIED:20230605T192120Z
UID:10013687-1790467200-1790553599@www.hmcshaida.com
SUMMARY:HMCS HAIDA departs Halifax for 1st tour in Korea.
DESCRIPTION:
URL:https://www.hmcshaida.com/events/hmcs-haida-departs-halifax-for-1st-tour-in-korea-2/2026-09-27/
END:VEVENT
BEGIN:VEVENT
DTSTART;VALUE=DATE:20260929
DTEND;VALUE=DATE:20260930
DTSTAMP:20260424T204220
CREATED:20230310T003903Z
LAST-MODIFIED:20230310T215159Z
UID:10009294-1790640000-1790726399@www.hmcshaida.com
SUMMARY:HMCS HAIDA arrived in Halifax.
DESCRIPTION:
URL:https://www.hmcshaida.com/events/hmcs-haida-arrived-in-halifax/2026-09-29/
END:VEVENT
BEGIN:VEVENT
DTSTART;VALUE=DATE:20260929
DTEND;VALUE=DATE:20260930
DTSTAMP:20260424T204220
CREATED:20230605T191820Z
LAST-MODIFIED:20230605T191820Z
UID:10013611-1790640000-1790726399@www.hmcshaida.com
SUMMARY:HMCS HAIDA keel laid down.
DESCRIPTION:
URL:https://www.hmcshaida.com/events/hmcs-haida-keel-laid-down-2/2026-09-29/
END:VEVENT
BEGIN:VEVENT
DTSTART;VALUE=DATE:20261011
DTEND;VALUE=DATE:20261012
DTSTAMP:20260424T204220
CREATED:20230310T003903Z
LAST-MODIFIED:20230310T011722Z
UID:10007143-1791676800-1791763199@www.hmcshaida.com
SUMMARY:HMCS HAIDA paid off for the last time at Sydney\, NS.
DESCRIPTION:
URL:https://www.hmcshaida.com/events/hmcs-haida-paid-off-for-the-last-time-at-sydney-ns/2026-10-11/
END:VEVENT
BEGIN:VEVENT
DTSTART;VALUE=DATE:20261101
DTEND;VALUE=DATE:20261102
DTSTAMP:20260424T204220
CREATED:20230310T003903Z
LAST-MODIFIED:20230605T190938Z
UID:10013438-1793491200-1793577599@www.hmcshaida.com
SUMMARY:Convoy RA.54A departs Kola Inlet.
DESCRIPTION:
URL:https://www.hmcshaida.com/events/convoy-ra-54a-departs-kola-inlet/2026-11-01/
END:VEVENT
BEGIN:VEVENT
DTSTART;VALUE=DATE:20261102
DTEND;VALUE=DATE:20261103
DTSTAMP:20260424T204220
CREATED:20230310T003903Z
LAST-MODIFIED:20230605T190343Z
UID:10013354-1793577600-1793663999@www.hmcshaida.com
SUMMARY:HMCS HAIDA joins convoy RA.54A as escort.
DESCRIPTION:
URL:https://www.hmcshaida.com/events/hmcs-haida-joins-convoy-ra-54a-as-escort/2026-11-02/
END:VEVENT
BEGIN:VEVENT
DTSTART;VALUE=DATE:20261105
DTEND;VALUE=DATE:20261106
DTSTAMP:20260424T204220
CREATED:20230310T003912Z
LAST-MODIFIED:20230310T011927Z
UID:10007366-1793836800-1793923199@www.hmcshaida.com
SUMMARY:Prince Charles\, Prince of Wales\, and his wife\, Camilla\, Duchess of Cornwall (as they were then known) visited HMCS HAIDA and unveiled a plaque outside of the gift shop.
DESCRIPTION:
URL:https://www.hmcshaida.com/events/prince-charles-prince-of-wales-and-his-wife-camilla-duchess-of-cornwall-as-they-were-then-known-visited-hmcs-haida-and-unveiled-a-plaque-outside-of-the-gift-shop/2026-11-05/
END:VEVENT
BEGIN:VEVENT
DTSTART;VALUE=DATE:20261106
DTEND;VALUE=DATE:20261107
DTSTAMP:20260424T204220
CREATED:20230605T190141Z
LAST-MODIFIED:20230605T190143Z
UID:10007782-1793923200-1794009599@www.hmcshaida.com
SUMMARY:HMCS HAIDA arrives in Korea.
DESCRIPTION:
URL:https://www.hmcshaida.com/events/hmcs-haida-arrives-in-korea-2/2026-11-06/
END:VEVENT
BEGIN:VEVENT
DTSTART;VALUE=DATE:20261108
DTEND;VALUE=DATE:20261109
DTSTAMP:20260424T204220
CREATED:20230310T003913Z
LAST-MODIFIED:20230605T190020Z
UID:10013199-1794096000-1794182399@www.hmcshaida.com
SUMMARY:HMCS HAIDA departs convoy RA.54A.
DESCRIPTION:
URL:https://www.hmcshaida.com/events/hmcs-haida-departs-convoy-ra-54a/2026-11-08/
END:VEVENT
BEGIN:VEVENT
DTSTART;VALUE=DATE:20261114
DTEND;VALUE=DATE:20261115
DTSTAMP:20260424T204221
CREATED:20230310T003913Z
LAST-MODIFIED:20230605T185618Z
UID:10012962-1794614400-1794700799@www.hmcshaida.com
SUMMARY:Convoy RA.54A arrives at Loch Ewe.
DESCRIPTION:
URL:https://www.hmcshaida.com/events/convoy-ra-54a-arrives-at-loch-ewe/2026-11-14/
END:VEVENT
BEGIN:VEVENT
DTSTART;VALUE=DATE:20261115
DTEND;VALUE=DATE:20261116
DTSTAMP:20260424T204221
CREATED:20230310T003919Z
LAST-MODIFIED:20230605T185421Z
UID:10012877-1794700800-1794787199@www.hmcshaida.com
SUMMARY:Convoy JW.54A departs Lock Ewe.
DESCRIPTION:
URL:https://www.hmcshaida.com/events/convoy-jw-54a-departs-lock-ewe/2026-11-15/
END:VEVENT
BEGIN:VEVENT
DTSTART;VALUE=DATE:20261118
DTEND;VALUE=DATE:20261119
DTSTAMP:20260424T204221
CREATED:20230310T003919Z
LAST-MODIFIED:20230605T185339Z
UID:10012793-1794960000-1795046399@www.hmcshaida.com
SUMMARY:HMCS HAIDA joins convoy JW.54A as escort.
DESCRIPTION:
URL:https://www.hmcshaida.com/events/hmcs-haida-joins-convoy-jw-54a-as-escort/2026-11-18/
END:VEVENT
BEGIN:VEVENT
DTSTART;VALUE=DATE:20261119
DTEND;VALUE=DATE:20261120
DTSTAMP:20260424T204221
CREATED:20230605T185926Z
LAST-MODIFIED:20230605T185926Z
UID:10013115-1795046400-1795132799@www.hmcshaida.com
SUMMARY:approx 300 miles north of Bermuda\, HMCS HAIDA rescued 18 airmen from a B.29 bomber that went down on November 16\, 1949 while enroute from the USAF Base at St. George Bermuda to England.
DESCRIPTION:
URL:https://www.hmcshaida.com/events/approx-300-miles-north-of-bermuda-hmcs-haida-rescued-18-airmen-from-a-b-29-bomber-that-went-down-on-november-16-1949-while-enroute-from-the-usaf-base-at-st-george-bermuda-to-england-2/2026-11-19/
END:VEVENT
BEGIN:VEVENT
DTSTART;VALUE=DATE:20261124
DTEND;VALUE=DATE:20261125
DTSTAMP:20260424T204221
CREATED:20230310T003919Z
LAST-MODIFIED:20230605T184256Z
UID:10012223-1795478400-1795564799@www.hmcshaida.com
SUMMARY:HMCS HAIDA departs convoy JW.54A.
DESCRIPTION:
URL:https://www.hmcshaida.com/events/hmcs-haida-departs-convoy-jw-54a/2026-11-24/
END:VEVENT
BEGIN:VEVENT
DTSTART;VALUE=DATE:20261124
DTEND;VALUE=DATE:20261125
DTSTAMP:20260424T204221
CREATED:20230605T184155Z
LAST-MODIFIED:20230605T184155Z
UID:10012139-1795478400-1795564799@www.hmcshaida.com
SUMMARY:Convoy JW.54A arrives at Kola Inlet.
DESCRIPTION:
URL:https://www.hmcshaida.com/events/convoy-jw-54a-arrives-at-kola-inlet-2/2026-11-24/
END:VEVENT
BEGIN:VEVENT
DTSTART;VALUE=DATE:20261126
DTEND;VALUE=DATE:20261127
DTSTAMP:20260424T204221
CREATED:20230310T003920Z
LAST-MODIFIED:20230605T184342Z
UID:10012307-1795651200-1795737599@www.hmcshaida.com
SUMMARY:Convoy RA.54B departs Archangel.
DESCRIPTION:
URL:https://www.hmcshaida.com/events/convoy-ra-54b-departs-archangel/2026-11-26/
END:VEVENT
END:VCALENDAR