   BEGIN:VCALENDAR
VERSION:2.0
PRODID:-//Hmcshaida - ECPv6.15.11//NONSGML v1.0//EN
CALSCALE:GREGORIAN
METHOD:PUBLISH
X-ORIGINAL-URL:https://www.hmcshaida.com
X-WR-CALDESC:Events for Hmcshaida
REFRESH-INTERVAL;VALUE=DURATION:PT1H
X-Robots-Tag:noindex
X-PUBLISHED-TTL:PT1H
BEGIN:VTIMEZONE
TZID:America/Halifax
BEGIN:DAYLIGHT
TZOFFSETFROM:-0400
TZOFFSETTO:-0300
TZNAME:ADT
DTSTART:20270314T060000
END:DAYLIGHT
BEGIN:STANDARD
TZOFFSETFROM:-0300
TZOFFSETTO:-0400
TZNAME:AST
DTSTART:20271107T050000
END:STANDARD
BEGIN:DAYLIGHT
TZOFFSETFROM:-0400
TZOFFSETTO:-0300
TZNAME:ADT
DTSTART:20280312T060000
END:DAYLIGHT
BEGIN:STANDARD
TZOFFSETFROM:-0300
TZOFFSETTO:-0400
TZNAME:AST
DTSTART:20281105T050000
END:STANDARD
BEGIN:DAYLIGHT
TZOFFSETFROM:-0400
TZOFFSETTO:-0300
TZNAME:ADT
DTSTART:20290311T060000
END:DAYLIGHT
BEGIN:STANDARD
TZOFFSETFROM:-0300
TZOFFSETTO:-0400
TZNAME:AST
DTSTART:20291104T050000
END:STANDARD
BEGIN:DAYLIGHT
TZOFFSETFROM:-0400
TZOFFSETTO:-0300
TZNAME:ADT
DTSTART:20300310T060000
END:DAYLIGHT
BEGIN:STANDARD
TZOFFSETFROM:-0300
TZOFFSETTO:-0400
TZNAME:AST
DTSTART:20301103T050000
END:STANDARD
END:VTIMEZONE
BEGIN:VTIMEZONE
TZID:UTC
BEGIN:STANDARD
TZOFFSETFROM:+0000
TZOFFSETTO:+0000
TZNAME:UTC
DTSTART:20280101T000000
END:STANDARD
END:VTIMEZONE
BEGIN:VEVENT
DTSTART;VALUE=DATE:20280625
DTEND;VALUE=DATE:20280626
DTSTAMP:20260424T054459
CREATED:20250331T164526Z
LAST-MODIFIED:20250331T164526Z
UID:10014210-1845504000-1845590399@www.hmcshaida.com
SUMMARY:75th comm. Beginning of Korean War
DESCRIPTION:The 75th commemoration of the Korean War (June 25\, 2025) honours those who served and highlights the enduring Korean Peninsula division.
URL:https://www.hmcshaida.com/events/75th-comm-beginning-of-korean-war/2028-06-25/
END:VEVENT
BEGIN:VEVENT
DTSTART;TZID=America/Halifax:20280823T110000
DTEND;TZID=America/Halifax:20280823T160000
DTSTAMP:20260424T054459
CREATED:20250331T164023Z
LAST-MODIFIED:20250815T181034Z
UID:10014233-1850641200-1850659200@www.hmcshaida.com
SUMMARY:82nd Ship’s Birthday
DESCRIPTION:when  do you need the invoices? \n 
URL:https://www.hmcshaida.com/events/82nd-ships-birthday/2028-08-23/
LOCATION:HMCS Haida National Historic Site\, Pier 9-658 Catharine St N\, Hamilton\, Ontario\, L8L 8K4\, Canada
END:VEVENT
BEGIN:VEVENT
DTSTART;VALUE=DATE:20290429
DTEND;VALUE=DATE:20290430
DTSTAMP:20260424T054459
CREATED:20250331T163056Z
LAST-MODIFIED:20250331T163252Z
UID:10014181-1872115200-1872201599@www.hmcshaida.com
SUMMARY:Sinking of HMCS Athabaskan  (ship not open to visitors)
DESCRIPTION:Commemorated at HMCS Haida\, the sinking of HMCS Athabaskan (April 29\, 1944) honours 128 lost sailors and its role in WWII naval history.
URL:https://www.hmcshaida.com/events/sinking-of-hmcs-athabaskan/2029-04-29/
END:VEVENT
BEGIN:VEVENT
DTSTART;VALUE=DATE:20290504
DTEND;VALUE=DATE:20290505
DTSTAMP:20260424T054459
CREATED:20250331T163330Z
LAST-MODIFIED:20250331T163330Z
UID:10014186-1872547200-1872633599@www.hmcshaida.com
SUMMARY:Battle of the Atlantic (ship not open to visitors)
DESCRIPTION:On May 4\, HMCS Haida in Hamilton remembers the Battle of the Atlantic\, celebrating naval bravery that maintained Allied supply lines in WWII.
URL:https://www.hmcshaida.com/events/battle-of-the-atlantic-ship-not-open-to-visitors/2029-05-04/
END:VEVENT
BEGIN:VEVENT
DTSTART;VALUE=DATE:20290506
DTEND;VALUE=DATE:20290507
DTSTAMP:20260424T054459
CREATED:20230426T204833Z
LAST-MODIFIED:20250331T163513Z
UID:10014187-1872720000-1872806399@www.hmcshaida.com
SUMMARY:Battle of the Atlantic
DESCRIPTION:Ceremony conducted under Gantry Crane led by HMCS STAR 2-3 PM.\nVE will dress ship and possibly fire A-Gun\nJetty area will be open incl. FOH gift shop – would 10 AM work for Friends?\nStandard guided tour to be offered at specific time slots (11 AM\, 12 PM\, 1 PM\, 3:15 PM) to public
URL:https://www.hmcshaida.com/events/battle-of-the-atlantic-may-7/2029-05-06/
END:VEVENT
BEGIN:VEVENT
DTSTART;VALUE=DATE:20290625
DTEND;VALUE=DATE:20290626
DTSTAMP:20260424T054459
CREATED:20250331T164526Z
LAST-MODIFIED:20250331T164526Z
UID:10014211-1877040000-1877126399@www.hmcshaida.com
SUMMARY:75th comm. Beginning of Korean War
DESCRIPTION:The 75th commemoration of the Korean War (June 25\, 2025) honours those who served and highlights the enduring Korean Peninsula division.
URL:https://www.hmcshaida.com/events/75th-comm-beginning-of-korean-war/2029-06-25/
END:VEVENT
BEGIN:VEVENT
DTSTART;TZID=America/Halifax:20290823T110000
DTEND;TZID=America/Halifax:20290823T160000
DTSTAMP:20260424T054459
CREATED:20250331T164023Z
LAST-MODIFIED:20250815T181034Z
UID:10014234-1882177200-1882195200@www.hmcshaida.com
SUMMARY:82nd Ship’s Birthday
DESCRIPTION:when  do you need the invoices? \n 
URL:https://www.hmcshaida.com/events/82nd-ships-birthday/2029-08-23/
LOCATION:HMCS Haida National Historic Site\, Pier 9-658 Catharine St N\, Hamilton\, Ontario\, L8L 8K4\, Canada
END:VEVENT
END:VCALENDAR