   BEGIN:VCALENDAR
VERSION:2.0
PRODID:-//Hmcshaida - ECPv6.15.11//NONSGML v1.0//EN
CALSCALE:GREGORIAN
METHOD:PUBLISH
X-ORIGINAL-URL:https://www.hmcshaida.com
X-WR-CALDESC:Events for Hmcshaida
REFRESH-INTERVAL;VALUE=DURATION:PT1H
X-Robots-Tag:noindex
X-PUBLISHED-TTL:PT1H
BEGIN:VTIMEZONE
TZID:UTC
BEGIN:STANDARD
TZOFFSETFROM:+0000
TZOFFSETTO:+0000
TZNAME:UTC
DTSTART:20240101T000000
END:STANDARD
END:VTIMEZONE
BEGIN:VTIMEZONE
TZID:America/Halifax
BEGIN:DAYLIGHT
TZOFFSETFROM:-0400
TZOFFSETTO:-0300
TZNAME:ADT
DTSTART:20240310T060000
END:DAYLIGHT
BEGIN:STANDARD
TZOFFSETFROM:-0300
TZOFFSETTO:-0400
TZNAME:AST
DTSTART:20241103T050000
END:STANDARD
BEGIN:DAYLIGHT
TZOFFSETFROM:-0400
TZOFFSETTO:-0300
TZNAME:ADT
DTSTART:20250309T060000
END:DAYLIGHT
BEGIN:STANDARD
TZOFFSETFROM:-0300
TZOFFSETTO:-0400
TZNAME:AST
DTSTART:20251102T050000
END:STANDARD
BEGIN:DAYLIGHT
TZOFFSETFROM:-0400
TZOFFSETTO:-0300
TZNAME:ADT
DTSTART:20260308T060000
END:DAYLIGHT
BEGIN:STANDARD
TZOFFSETFROM:-0300
TZOFFSETTO:-0400
TZNAME:AST
DTSTART:20261101T050000
END:STANDARD
END:VTIMEZONE
BEGIN:VEVENT
DTSTART;VALUE=DATE:20250526
DTEND;VALUE=DATE:20250527
DTSTAMP:20260422T031120
CREATED:20230310T003812Z
LAST-MODIFIED:20230310T011000Z
UID:10006710-1748217600-1748303999@www.hmcshaida.com
SUMMARY:HMCS HAIDA was designated flagship of the Royal Canadian Navy
DESCRIPTION:
URL:https://www.hmcshaida.com/events/hmcs-haida-was-designated-flagship-of-the-royal-canadian-navy/2025-05-26/
END:VEVENT
BEGIN:VEVENT
DTSTART;VALUE=DATE:20250531
DTEND;VALUE=DATE:20250601
DTSTAMP:20260422T031120
CREATED:20250415T164914Z
LAST-MODIFIED:20250415T164914Z
UID:10014213-1748649600-1748735999@www.hmcshaida.com
SUMMARY:31 Signal Regiment Change of Command Parade and Dinner
DESCRIPTION:Line truck and VST Display have been requested.
URL:https://www.hmcshaida.com/events/31-signal-regiment-change-of-command-parade-and-dinner/
END:VEVENT
BEGIN:VEVENT
DTSTART;TZID=America/Halifax:20250531T100000
DTEND;TZID=America/Halifax:20250601T170000
DTSTAMP:20260422T031120
CREATED:20250610T173130Z
LAST-MODIFIED:20250610T173130Z
UID:10014224-1748685600-1748797200@www.hmcshaida.com
SUMMARY:Anniversary of D-Day/Operation Neptune at HMCS Haida
DESCRIPTION:Join us as we commemorate the 81st anniversary of a pivotal moment in Canadian history that combined all aspects of the Canadian military in their efforts to bring an end to the Second World War. \nThis 2-day event will feature enhanced programing including re-enactors\, demonstrations\, specialized presentations\, and much\, much more. \nSchedule for May 31 and June 1: \n• 10:30 a.m. – Guided Tour (Sunday only)\n• 11:00 a.m. – Moment of Silence\n• 11:30 a.m. – Historic Weapons Demo\n• 12:00 p.m. – Noon Day Gun\n• 1:00 p.m. – Ship’s Siren\n• 1:30 p.m. – Historic Weapons Demo\n• 2:00 p.m. – Guided Tour\n• 2:30 p.m. – Enigma Communication (15 mins\, Sunday only) presented by the Vintage Signals Team\n• 3:00 p.m. – Guided Tour\n• 10:00 a.m. – 4:30 p.m. Re-enactors\n• 10:00 a.m. – 4:00 p.m. Naval Communication (display on jetty with Vintage Signals Team) \n  \nStart date: May 31\, 2025\nEnd date: June 01\, 2025\n10 a.m. to 5 p.m. both days.\nLocation(s): HMCS Haida National Historic Site\nCost: Included with admission
URL:https://www.hmcshaida.com/events/anniversary-of-d-day-operation-neptune-at-hmcs-haida/
END:VEVENT
BEGIN:VEVENT
DTSTART;VALUE=DATE:20250602
DTEND;VALUE=DATE:20250603
DTSTAMP:20260422T031120
CREATED:20230310T003813Z
LAST-MODIFIED:20230310T013320Z
UID:10008415-1748822400-1748908799@www.hmcshaida.com
SUMMARY:HMCS HAIDA departs Greenock.
DESCRIPTION:
URL:https://www.hmcshaida.com/events/hmcs-haida-departs-greenock/2025-06-02/
END:VEVENT
BEGIN:VEVENT
DTSTART;VALUE=DATE:20250606
DTEND;VALUE=DATE:20250607
DTSTAMP:20260422T031120
CREATED:20230310T003813Z
LAST-MODIFIED:20230310T215307Z
UID:10009626-1749168000-1749254399@www.hmcshaida.com
SUMMARY:HMCS HAIDA present at D Day
DESCRIPTION:
URL:https://www.hmcshaida.com/events/hmcs-haida-present-at-d-day/2025-06-06/
END:VEVENT
BEGIN:VEVENT
DTSTART;VALUE=DATE:20250606
DTEND;VALUE=DATE:20250607
DTSTAMP:20260422T031120
CREATED:20230310T003813Z
LAST-MODIFIED:20230310T011820Z
UID:10007276-1749168000-1749254399@www.hmcshaida.com
SUMMARY:D Day 50th Anniversary Plaque presentation by Lt Gov Lincoln Alexander.
DESCRIPTION:
URL:https://www.hmcshaida.com/events/d-day-50th-anniversary-plaque-presentation-by-lt-gov-lincoln-alexander/2025-06-06/
END:VEVENT
BEGIN:VEVENT
DTSTART;VALUE=DATE:20250606
DTEND;VALUE=DATE:20250607
DTSTAMP:20260422T031120
CREATED:20250415T164959Z
LAST-MODIFIED:20250415T164959Z
UID:10014214-1749168000-1749254399@www.hmcshaida.com
SUMMARY:RED (Remember Everyone Deployed) Display and "Hope" Museum.
DESCRIPTION:Branch 551 in Waterdownnt . Line Truck and VST Display with Friends of HMCS HAIDA requested.
URL:https://www.hmcshaida.com/events/red-remember-everyone-deployed-display-and-hope-museum/
END:VEVENT
BEGIN:VEVENT
DTSTART;TZID=America/Halifax:20250607T100000
DTEND;TZID=America/Halifax:20250608T130000
DTSTAMP:20260422T031120
CREATED:20250606T180201Z
LAST-MODIFIED:20250608T150505Z
UID:10014218-1749290400-1749387600@www.hmcshaida.com
SUMMARY:HAIDA Returns to the Airwaves for the Museum Ships On-The-Air Weekend
DESCRIPTION:. \nJune 7–8\, 2025\nRadio Room 1 aboard HMCS HAIDA \nWelcome Aboard! \nWe’re delighted to announce that HMCS HAIDA will once again light up the airwaves for this year’s Museum Ships On-The-Air Weekend—a global celebration that unites maritime heritage with amateur radio—sponsored by the USS New Jersey Radio Club (NJ2BB). Proudly\, our volunteer crew from Friends of HMCS HAIDA (FOH) is gearing up to showcase a living piece of naval history\, where past and present converge in every radio contact. Parks Canada has generously granted us permission to operate an amateur radio station in Radio Room 1 aboard HMCS HAIDA\, ensuring that our activation remains authentic and respectful of the vessel’s storied past. \nA Nostalgic Radio Resurrection \nFor those who cherish the crossroads of history and technology\, this event offers a rare and mesmerizing glimpse into the past. In the early 1960s\, when HMCS HAIDA’s amateur radio station operated under the historic call sign VE0NV\, it functioned much like the “Internet of the 1960s.” Back then\, amateur radio was the vital connection that allowed sailors on deployment to reach out to family members across the globe—an indispensable lifeline in a pre-digital era. In keeping with common Royal Canadian Navy practice\, many of our navy ships using a VE0 prefix call sign reached out to the world on the amateur bands. Al Goodwin\, who served aboard HAIDA as the POTEL (senior radio operator) from May 1960 until the ship was paid off in October 1963\, fondly recalls those vibrant days. He remembers\, for instance\, operating VE0NV from early 1962 with up to five operators on duty—a record staffing that brought in a flood of worldwide contacts. Remembering this period was during the tense days of the Cold War\, one unforgettable moment was when the Commanding Officer\, marveling at the QSL cards proudly displayed in Radio 1\, noticing a QSL card from Russia once queried\, “What would you talk to him about?” to which Al replied\, “Crypto codes—of course\,” \nHonoring a Historic Legacy \nToday\, as modern equipment stands side by side with time-tested techniques\, HMCS HAIDA’s amateur radio activation for Museum Ships On-The-Air Weekend is a tribute to that pioneering spirit. By revisiting the golden era of VE0NV\, we celebrate not only a historical milestone in naval communications but also the enduring legacy of connecting people across vast distances—decades before email or cell phones transformed our world. \nBringing Radio Room 1 to Life \nUnder the guidance of Rick Bialachowski and Chris Cuthbert Radio Room 1 is buzzing with preparations. Utilizing the decades-old dipole antenna alongside the forward starboard whip antenna\, our early low-power tests reached across the Atlantic. This rigorous pre-event setup not only pays homage to HAIDA’s technical heritage but also lays the groundwork for an exhilarating on-the-air weekend. \nHMCS HAIDA’s Museum Ships On-the-Air Call Sign \nHMCS HAIDA will be using VA3WWV as its call sign during the Museum Ships On-The-Air Weekend.  We also remain hopeful of securing special event approvals to use VB3HAIDA and CF3HAIDA as additional call signs for the weekend. \nWhat to Expect \nJoin us from 1 p.m. to 4 p.m. on both Saturday and Sunday as we broadcast from Radio Room 1. Over 100 museum ships from all over the world registered for the event this year! Over approximately three hours each day\, our licensed amateur radio operators will make radio contacts with fellow amateur radio enthusiasts from museum ships around the globe—reconnecting historical traditions with modern excitement. Find HMCS HAIDA in the list of participating ships and the radio frequencies for the event at: https://www.nj2bb.org/museum \nJoin Us on This Voyage \nMuseum Ships On-The-Air Weekend is far more than a contest—it’s an immersive\, educational celebration of our shared heritage. With the dedicated efforts of FOH volunteers\, expert operators\, and invaluable support from Parks Canada\, HMCS HAIDA’s radio room transforms into a beacon of history and technology. We warmly invite radio enthusiasts\, history buffs\, and curious visitors to join us on board or on the air as we honor the pioneering spirit of maritime adventure and communication. \n73\, and see you on the air!
URL:https://www.hmcshaida.com/events/museum-ships-on-the-air-june-6-8/
LOCATION:HMCS Haida National Historic Site\, Pier 9-658 Catharine St N\, Hamilton\, Ontario\, L8L 8K4\, Canada
END:VEVENT
BEGIN:VEVENT
DTSTART;VALUE=DATE:20250608
DTEND;VALUE=DATE:20250609
DTSTAMP:20260422T031120
CREATED:20250415T165041Z
LAST-MODIFIED:20250415T165041Z
UID:10014215-1749340800-1749427199@www.hmcshaida.com
SUMMARY:Decoration Day
DESCRIPTION:at Dundurn Castle in Hamilton Museums. Line truck and VST Display with Friends of HMCS HAIDA  requested.
URL:https://www.hmcshaida.com/events/decoration-day/
END:VEVENT
BEGIN:VEVENT
DTSTART;VALUE=DATE:20250609
DTEND;VALUE=DATE:20250610
DTSTAMP:20260422T031120
CREATED:20230310T003827Z
LAST-MODIFIED:20230310T215255Z
UID:10009543-1749427200-1749513599@www.hmcshaida.com
SUMMARY:Battle of Ushant. Night action\, Normandy. HMCS HAIDA and HMCS HURON destroy the German Narvik class destroyer Z 32 in a gun duel off Ile de Bas. (Captain DeWolf’s 2nd DSC.)
DESCRIPTION:
URL:https://www.hmcshaida.com/events/battle-of-ushant-night-action-normandy-hmcs-haida-and-hmcs-huron-destroy-the-german-narvik-class-destroyer-z-32-in-a-gun-duel-off-ile-de-bas-captain-dewolfs-2nd-dsc/2025-06-09/
END:VEVENT
BEGIN:VEVENT
DTSTART;VALUE=DATE:20250610
DTEND;VALUE=DATE:20250611
DTSTAMP:20260422T031120
CREATED:20230605T201341Z
LAST-MODIFIED:20230605T201341Z
UID:10014163-1749513600-1749599999@www.hmcshaida.com
SUMMARY:HMCS HAIDA arrives Halifax and begins tropicalization refit.
DESCRIPTION:
URL:https://www.hmcshaida.com/events/hmcs-haida-arrives-halifax-and-begins-tropicalization-refit-2/2025-06-10/
END:VEVENT
BEGIN:VEVENT
DTSTART;VALUE=DATE:20250612
DTEND;VALUE=DATE:20250613
DTSTAMP:20260422T031120
CREATED:20230310T003828Z
LAST-MODIFIED:20230310T013001Z
UID:10007550-1749686400-1749772799@www.hmcshaida.com
SUMMARY:HMCS HAIDA departs Korea for Halifax
DESCRIPTION:
URL:https://www.hmcshaida.com/events/hmcs-haida-departs-korea-for-halifax/2025-06-12/
END:VEVENT
BEGIN:VEVENT
DTSTART;TZID=America/Halifax:20250613T080000
DTEND;TZID=America/Halifax:20250614T170000
DTSTAMP:20260422T031120
CREATED:20250610T160946Z
LAST-MODIFIED:20250610T161128Z
UID:10014219-1749801600-1749920400@www.hmcshaida.com
SUMMARY:Murder Mystery
DESCRIPTION:Back by popular demand is a brand-new Murder Mystery at HMCS Haida! How popular you ask? So popular we have added an extra night! Commander Martin is looking for some keen detectives to help uncover a murderer in a classic “who done it?” with a historical twist. Explore the ship to uncover clues and interview suspects with hopes of finding the guilty party. Prizes to be given to some\, and fun to be had by all. \nThis is a show with adult themes\, as such the recommended age limit is 12 and up. \n\n\nPurchase your tickets for Murder Mystery at HMCS Haida. \nPlease arrive by 6:30 p.m. to allow time for payment onsite prior to the event. \nLimited parking is available at HMCS Haida; free parking is available by Williams Fresh Café\, a short walk from the ship. \nTickets for sale soon. Doors will open at 6:30 p.m. and the start time is 7:00 p.m. \nDates: June 13 and June 14 \nTime: 7:00 pm to 8:30 pm\, doors open 6:30 pm \n\nLocation(s): HMCS Haida National Historic Site\nCost: Adults: $ 31.79\, Seniors: $31.27\, Youth: $ 27.12
URL:https://www.hmcshaida.com/events/murder-mystery/
END:VEVENT
BEGIN:VEVENT
DTSTART;VALUE=DATE:20250616
DTEND;VALUE=DATE:20250617
DTSTAMP:20260422T031120
CREATED:20230310T003828Z
LAST-MODIFIED:20230310T013220Z
UID:10008088-1750032000-1750118399@www.hmcshaida.com
SUMMARY:A burial at sea took place from HMCS HAIDA for Lt (A)\, Nigel Douglas Fisher\, Royal Navy\, who died when his Sea Hornet crashed into the sea off Halifax.
DESCRIPTION:
URL:https://www.hmcshaida.com/events/a-burial-at-sea-took-place-from-hmcs-haida-for-lt-a-nigel-douglas-fisher-royal-navy-who-died-when-his-sea-hornet-crashed-into-the-sea-off-halifax/2025-06-16/
END:VEVENT
BEGIN:VEVENT
DTSTART;TZID=America/Halifax:20250621T100000
DTEND;TZID=America/Halifax:20250622T170000
DTSTAMP:20260422T031120
CREATED:20250610T170328Z
LAST-MODIFIED:20250610T170749Z
UID:10014220-1750500000-1750611600@www.hmcshaida.com
SUMMARY:Anniversary of the Korean War
DESCRIPTION:Join us as we commemorate the 75th anniversary of the beginning of the Korean War. Learn about HMCS Haida’s role\, the Canadians who served\, and participation in the Train Busters Club.  The ship will be dressed with flags\, firing the ship’s guns\, and other demonstrations. \nThis event will be hosted on June 21 and 22. 10 a.m. to 5 p.m. both days. \nThere will be a commemorative ceremony on June 22 at 2:00 p.m. \nStart date: June 21\, 2025\nEnd date: June 22\, 2025\nLocation(s): HMCS Haida National Historic Site\nCost: Included with admission\n\nPlan your visit
URL:https://www.hmcshaida.com/events/anniversary-of-the-korean-war/
END:VEVENT
BEGIN:VEVENT
DTSTART;VALUE=DATE:20250624
DTEND;VALUE=DATE:20250625
DTSTAMP:20260422T031120
CREATED:20230310T003828Z
LAST-MODIFIED:20230310T215241Z
UID:10009460-1750723200-1750809599@www.hmcshaida.com
SUMMARY:HMCS HAIDA and HMS ESKIMO sink U 971 off Land’s End.
DESCRIPTION:
URL:https://www.hmcshaida.com/events/hmcs-haida-and-hms-eskimo-sink-u-971-off-lands-end/2025-06-24/
END:VEVENT
BEGIN:VEVENT
DTSTART;VALUE=DATE:20250625
DTEND;VALUE=DATE:20250626
DTSTAMP:20260422T031120
CREATED:20250331T164526Z
LAST-MODIFIED:20250331T164526Z
UID:10014206-1750809600-1750895999@www.hmcshaida.com
SUMMARY:75th comm. Beginning of Korean War
DESCRIPTION:The 75th commemoration of the Korean War (June 25\, 2025) honours those who served and highlights the enduring Korean Peninsula division.
URL:https://www.hmcshaida.com/events/75th-comm-beginning-of-korean-war/2025-06-25/1/
END:VEVENT
BEGIN:VEVENT
DTSTART;VALUE=DATE:20250625
DTEND;VALUE=DATE:20250626
DTSTAMP:20260422T031120
CREATED:20250331T164526Z
LAST-MODIFIED:20250331T164526Z
UID:10014207-1750838400-1750870800@www.hmcshaida.com
SUMMARY:75th comm. Beginning of Korean War
DESCRIPTION:The 75th commemoration of the Korean War (June 25\, 2025) honours those who served and highlights the enduring Korean Peninsula division.
URL:https://www.hmcshaida.com/events/75th-comm-beginning-of-korean-war/2025-06-25/2/
END:VEVENT
BEGIN:VEVENT
DTSTART;VALUE=DATE:20250628
DTEND;VALUE=DATE:20250629
DTSTAMP:20260422T031120
CREATED:20230605T200713Z
LAST-MODIFIED:20230605T200713Z
UID:10014080-1751068800-1751155199@www.hmcshaida.com
SUMMARY:Ceremony aboard HMCS HAIDA to complete the twinning of HMCS HAIDA and ORP Blyskawica.
DESCRIPTION:
URL:https://www.hmcshaida.com/events/ceremony-aboard-hmcs-haida-to-complete-the-twinning-of-hmcs-haida-and-orp-blyskawica-2/2025-06-28/
END:VEVENT
BEGIN:VEVENT
DTSTART;VALUE=DATE:20250629
DTEND;VALUE=DATE:20250630
DTSTAMP:20260422T031120
CREATED:20230605T200511Z
LAST-MODIFIED:20230605T200511Z
UID:10007382-1751155200-1751241599@www.hmcshaida.com
SUMMARY:At Government House in Nova Scotia\, Prince Philip\, Duke of Edinburgh\, presented to representatives of HMCS HAIDA the World Ship Trust Certificate.
DESCRIPTION:
URL:https://www.hmcshaida.com/events/at-government-house-in-nova-scotia-prince-philip-duke-of-edinburgh-presented-to-representatives-of-hmcs-haida-the-world-ship-trust-certificate-2/2025-06-29/
END:VEVENT
BEGIN:VEVENT
DTSTART;TZID=America/Halifax:20250701T100000
DTEND;TZID=America/Halifax:20250701T170000
DTSTAMP:20260422T031120
CREATED:20250610T171439Z
LAST-MODIFIED:20250610T172300Z
UID:10014221-1751364000-1751389200@www.hmcshaida.com
SUMMARY:Canada Day at HMCS Haida
DESCRIPTION:Celebrate Canada Day at HMCS Haida! Explore the legendary Tribal-class destroyer\, learn about brave sailors who served abord the ship\, and enjoy stunning views of Lake Ontario. Join us on July 1 to honour Canada’s rich naval history. PLUS – admission is FREE! Don’t miss this opportunity to create lasting memories on Canada’s birthday at HMCS Haida! \nPlease note: regularly scheduled programs will not be running on Canada Day. \nStart date: July 01\, 2025\nEnd date: July 01\, 2025\nTime: 10:00 AM – 05:00 PM\nLocation(s): HMCS Haida National Historic Site\nCost: FREE
URL:https://www.hmcshaida.com/events/canada-day-at-hmcs-haida/
END:VEVENT
BEGIN:VEVENT
DTSTART;TZID=America/Halifax:20250718T140000
DTEND;TZID=America/Halifax:20250718T163000
DTSTAMP:20260422T031120
CREATED:20250716T192443Z
LAST-MODIFIED:20250716T192635Z
UID:10014227-1752847200-1752856200@www.hmcshaida.com
SUMMARY:Spanish Language Day
DESCRIPTION:On Spanish Language Day\, Language Ambassadors from Mohawk College and Parks Canada staff will be available to deliver 1-hour pre-booked guided tours. \nPurchase your timed ticket for Spanish Language Day. \nCanoo Profile Verification \nIf you are eligible for Canoo benefits\, please click on the Canoo rate at the online ticketing website. Also note that you’ll need to show your Canoo profile when you arrive to your Language Day. To make things easier\, please have your profile open on your phone so we can check your membership quickly. \nLanguage day tour numbers are limited\, so to be sure book early to reserve your space! \n  \nLearn more about the Language Ambassador Program at HMCS Haida\n\n\n\nDate: July 19\, 2025 @ 2:0 pm – 4:30 pm\nLocation(s): HMCS Haida National Historic Site\nCost: Adults: $5.82\, Seniors: $5.30\, Youth: Free
URL:https://www.hmcshaida.com/events/spanish-language-day/
END:VEVENT
BEGIN:VEVENT
DTSTART;TZID=America/Halifax:20250726T100000
DTEND;TZID=America/Halifax:20250727T170000
DTSTAMP:20260422T031120
CREATED:20250610T171817Z
LAST-MODIFIED:20250610T172154Z
UID:10014222-1753524000-1753635600@www.hmcshaida.com
SUMMARY:Women of War
DESCRIPTION:Women of War Weekend at HMCS Haida will commemorate and celebrate the many ways that women contributed to Canada’s war effort during the Second World War. Special programming will provide a look at how women made important contributions on the homefront\, in industrial settings\, and as active members of the Women’s Royal Canadian Navy Service (WRCNS). \nCome aboard and learn about the important contribution women made towards the Allied victory! \n  \nPlan your visit\n\n\nStart date: July 26\, 2025\nEnd date: July 27\, 2025\nLocation(s): HMCS Haida National Historic Site\n10 a.m. to 5 p.m. both days.\nCost: Included with admission
URL:https://www.hmcshaida.com/events/women-of-war/
END:VEVENT
BEGIN:VEVENT
DTSTART;VALUE=DATE:20250806
DTEND;VALUE=DATE:20250807
DTSTAMP:20260422T031120
CREATED:20230310T003843Z
LAST-MODIFIED:20230310T215217Z
UID:10009376-1754438400-1754524799@www.hmcshaida.com
SUMMARY:HMCS HAIDA sinks German minesweeper M486 off Ile d’Yeu\, Bay of Biscay. LS R.H. Betts\, and AB G.J. Rowe\, both killed in action Aug 6\, 1944. A/S Kerwin awarded the Conspicuous Gallantry Medal. (This was the second CGM awarded to the RCN. The first was Max Bernay’s on August 6\, 1942).
DESCRIPTION:
URL:https://www.hmcshaida.com/events/hmcs-haida-sinks-german-minesweeper-m486-off-ile-dyeu-bay-of-biscay-ls-r-h-betts-and-ab-g-j-rowe-both-killed-in-action-aug-6-1944-a-s-kerwin-awarded-the-conspicuous-gallantry-medal/2025-08-06/
END:VEVENT
BEGIN:VEVENT
DTSTART;TZID=America/Halifax:20250809T140000
DTEND;TZID=America/Halifax:20250809T163000
DTSTAMP:20260422T031120
CREATED:20250805T163827Z
LAST-MODIFIED:20250805T163844Z
UID:10014228-1754748000-1754757000@www.hmcshaida.com
SUMMARY:Ukrainian Day
DESCRIPTION:On Ukrainian Language Day\, Language Ambassadors from Mohawk College and Parks Canada staff will be available to deliver 1-hour pre-booked guided tours. \nPurchase your timed ticket for Ukrainian Language Day. \nCanoo Profile Verification \nIf you are eligible for Canoo benefits\, please click on the Canoo rate at the online ticketing website. Also note that you’ll need to show your Canoo profile when you arrive to your Language Day. To make things easier\, please have your profile open on your phone so we can check your membership quickly. \nLanguage day tour numbers are limited\, so to be sure book early to reserve your space! \n  \nUkrainian Language Day – August 9\, 2025Time: 2:00 PM – 4:30 PMLocation: HMCS Haida National Historic SiteCost: Adults $5.82 | Seniors $5.30 | Youth Free
URL:https://www.hmcshaida.com/events/ukrainian-day/
END:VEVENT
BEGIN:VEVENT
DTSTART;TZID=America/Halifax:20250814T171500
DTEND;TZID=America/Halifax:20250814T193000
DTSTAMP:20260422T031120
CREATED:20250708T162449Z
LAST-MODIFIED:20250812T192209Z
UID:10014225-1755191700-1755199800@www.hmcshaida.com
SUMMARY:HMCS Haida Artillery Experience
DESCRIPTION:Embark on a unique adventure with our Enhanced Artillery Experience! This exclusive program provides participants with an in-depth historical and technical background on the 4” guns used aboard HMCS Haida during the Second World War and the Korean War. \nParticipants will have the rare opportunity to load and fire the 4” guns on-board HMCS Haida\, guided by a team of expert Parks Canada staff. Feel the rush as you don historic gun crew gear and immerse yourself in the atmosphere of naval warfare. \nThis enhanced program is available on a pre-booked basis only\, offering an unforgettable experience for history enthusiasts and adventure seekers alike. \nEach ticket includes one complimentary spectator ticket. Spectators can watch but not participate in the Artillery Experience. \nPurchase your timed ticket for the HMCS Haida Artillery Experience. \n  \nStart date: July 10\, 2025\nEnd date: July 10\, 2025\nTime: 05:15 PM – 07:30 PM\nLocation(s): HMCS Haida National Historic Site\nCost: Adults: $143.74\, Seniors: $143.22\, Youth: $139.07\nDates: June 12\, July 10\, August 14\, September 11\nTimes: 5:15 p.m. and 6:15 p.m.\nMax # of participants: 5 (ages 16+)
URL:https://www.hmcshaida.com/events/hmcs-haida-artillery-experience/
END:VEVENT
BEGIN:VEVENT
DTSTART;VALUE=DATE:20250816
DTEND;VALUE=DATE:20250817
DTSTAMP:20260422T031121
CREATED:20250415T165214Z
LAST-MODIFIED:20250415T165706Z
UID:10014216-1755302400-1755388799@www.hmcshaida.com
SUMMARY:Warriors Day Parade  CNE Toronto
DESCRIPTION:Line truck is requested to attend.
URL:https://www.hmcshaida.com/events/warriors-day-parade-cne-toronto/
END:VEVENT
BEGIN:VEVENT
DTSTART;TZID=America/Halifax:20250816T140000
DTEND;TZID=America/Halifax:20250816T163000
DTSTAMP:20260422T031121
CREATED:20250815T154413Z
LAST-MODIFIED:20250815T154526Z
UID:10014229-1755352800-1755361800@www.hmcshaida.com
SUMMARY:Arabic Language Day
DESCRIPTION:Please note that due to unforeseen circumstances\, the August 16 Arabic Language Day event is cancelled. \nOn Arabic Language Day\, Language Ambassadors from Mohawk College and Parks Canada staff will be available to deliver 1-hour pre-booked guided tours. \nPurchase your timed ticket for Arabic Language Day. \nCanoo Profile Verification \nIf you are eligible for Canoo benefits\, please click on the Canoo rate at the online ticketing website. Also note that you’ll need to show your Canoo profile when you arrive to your Language Day. To make things easier\, please have your profile open on your phone so we can check your membership quickly. \nLanguage day tour numbers are limited\, so to be sure book early to reserve your space! \n  \nLearn more about the Language Ambassador Program at HMCS Haida\n\n\n\n\n\n\n\n  \n\n\n\nStart date: August 16\, 2025\nEnd date: August 16\, 2025\nTime: 02:00 PM – 04:30 PM\nLocation(s): HMCS Haida National Historic Site\nCost: Adults: $5.82\, Seniors: $5.30\, Youth: Free
URL:https://www.hmcshaida.com/events/arabic-language-day/
END:VEVENT
BEGIN:VEVENT
DTSTART;TZID=America/Halifax:20250821T173000
DTEND;TZID=America/Halifax:20250821T190000
DTSTAMP:20260422T031121
CREATED:20250716T190124Z
LAST-MODIFIED:20250821T174802Z
UID:10014226-1755797400-1755802800@www.hmcshaida.com
SUMMARY:Behind the Scenes Tour
DESCRIPTION:This special tour\, available by pre-booking only\, offers a unique opportunity to explore areas of HMCS Haida that are typically off-limits to the public. \nWith a maximum group size of just 10 people\, you’ll enjoy an intimate and personalized experience. Discover the hidden corners and hear the untold stories of this historic naval ship\, guided by our knowledgeable staff. \nDon’t miss your chance to see the HMCS Haida from a whole new perspective! \nPurchase your timed ticket for the Behind the Scenes Tour. Bookings must be made at least one week in advance. \n\nThe Behind the Scenes Tour involves navigating HMCS Haida National Historic Site via a series of hatches\, narrow passageways\, raised thresholds\, and steep ladders. Be aware of deck surfaces that can be slippery when wet and watch out for low overhead clearance. This program may not be suitable for individuals with certain health conditions\, including but not limited to heart conditions and mobility issues. \nParticipants are required to wear closed-toed shoes and must be 16 years of age or older. \n\n  \nPlan your visit\n\n\n\nDate: July 21\, 2025\, September 18\, 2025 @ 5:30 pm – 07:00 pm\nLocation(s): HMCS Haida National Historic Site\nCost: Adults: $41.40\, Seniors: $40.88\, Youth: $36.73\nMax # of participants: 10 (ages 16+)
URL:https://www.hmcshaida.com/events/behind-the-scenes-tour/
END:VEVENT
BEGIN:VEVENT
DTSTART;VALUE=DATE:20250822
DTEND;VALUE=DATE:20250823
DTSTAMP:20260422T031121
CREATED:20230605T200328Z
LAST-MODIFIED:20230605T200402Z
UID:10014046-1755820800-1755907199@www.hmcshaida.com
SUMMARY:HMCS HAIDA arrives in Halifax from Korea.
DESCRIPTION:
URL:https://www.hmcshaida.com/events/hmcs-haida-arrives-in-halifax-from-korea-2-2/2025-08-22/
END:VEVENT
END:VCALENDAR