   BEGIN:VCALENDAR
VERSION:2.0
PRODID:-//Hmcshaida - ECPv6.15.11//NONSGML v1.0//EN
CALSCALE:GREGORIAN
METHOD:PUBLISH
X-ORIGINAL-URL:https://www.hmcshaida.com
X-WR-CALDESC:Events for Hmcshaida
REFRESH-INTERVAL;VALUE=DURATION:PT1H
X-Robots-Tag:noindex
X-PUBLISHED-TTL:PT1H
BEGIN:VTIMEZONE
TZID:UTC
BEGIN:STANDARD
TZOFFSETFROM:+0000
TZOFFSETTO:+0000
TZNAME:UTC
DTSTART:20270101T000000
END:STANDARD
END:VTIMEZONE
BEGIN:VTIMEZONE
TZID:America/Halifax
BEGIN:DAYLIGHT
TZOFFSETFROM:-0400
TZOFFSETTO:-0300
TZNAME:ADT
DTSTART:20270314T060000
END:DAYLIGHT
BEGIN:STANDARD
TZOFFSETFROM:-0300
TZOFFSETTO:-0400
TZNAME:AST
DTSTART:20271107T050000
END:STANDARD
BEGIN:DAYLIGHT
TZOFFSETFROM:-0400
TZOFFSETTO:-0300
TZNAME:ADT
DTSTART:20280312T060000
END:DAYLIGHT
BEGIN:STANDARD
TZOFFSETFROM:-0300
TZOFFSETTO:-0400
TZNAME:AST
DTSTART:20281105T050000
END:STANDARD
BEGIN:DAYLIGHT
TZOFFSETFROM:-0400
TZOFFSETTO:-0300
TZNAME:ADT
DTSTART:20290311T060000
END:DAYLIGHT
BEGIN:STANDARD
TZOFFSETFROM:-0300
TZOFFSETTO:-0400
TZNAME:AST
DTSTART:20291104T050000
END:STANDARD
BEGIN:DAYLIGHT
TZOFFSETFROM:-0400
TZOFFSETTO:-0300
TZNAME:ADT
DTSTART:20300310T060000
END:DAYLIGHT
BEGIN:STANDARD
TZOFFSETFROM:-0300
TZOFFSETTO:-0400
TZNAME:AST
DTSTART:20301103T050000
END:STANDARD
END:VTIMEZONE
BEGIN:VEVENT
DTSTART;VALUE=DATE:20280107
DTEND;VALUE=DATE:20280108
DTSTAMP:20260422T045013
CREATED:20230310T003942Z
LAST-MODIFIED:20230310T215508Z
UID:10010211-1830816000-1830902399@www.hmcshaida.com
SUMMARY:HMCS HAIDA departs convoy RA.55B.
DESCRIPTION:
URL:https://www.hmcshaida.com/events/hmcs-haida-departs-convoy-ra-55b/2028-01-07/
END:VEVENT
BEGIN:VEVENT
DTSTART;VALUE=DATE:20280108
DTEND;VALUE=DATE:20280109
DTSTAMP:20260422T045013
CREATED:20230310T003942Z
LAST-MODIFIED:20230310T215455Z
UID:10010127-1830902400-1830988799@www.hmcshaida.com
SUMMARY:Convoy RA.55B arrives at Loch Ewe.
DESCRIPTION:
URL:https://www.hmcshaida.com/events/convoy-ra-55b-arrives-at-loch-ewe/2028-01-08/
END:VEVENT
BEGIN:VEVENT
DTSTART;VALUE=DATE:20280205
DTEND;VALUE=DATE:20280206
DTSTAMP:20260422T045013
CREATED:20230310T003737Z
LAST-MODIFIED:20230310T011604Z
UID:10006934-1833321600-1833407999@www.hmcshaida.com
SUMMARY:HMCS HAIDA arrives on station in Korea
DESCRIPTION:
URL:https://www.hmcshaida.com/events/hmcs-haida-arrives-on-station-in-korea/2028-02-05/
END:VEVENT
BEGIN:VEVENT
DTSTART;VALUE=DATE:20280320
DTEND;VALUE=DATE:20280321
DTSTAMP:20260422T045014
CREATED:20230605T165209Z
LAST-MODIFIED:20230605T165209Z
UID:10011117-1837123200-1837209599@www.hmcshaida.com
SUMMARY:HMCS HAIDA paid off to refit.
DESCRIPTION:
URL:https://www.hmcshaida.com/events/hmcs-haida-paid-off-to-refit-2/2028-03-20/
END:VEVENT
BEGIN:VEVENT
DTSTART;VALUE=DATE:20280405
DTEND;VALUE=DATE:20280406
DTSTAMP:20260422T045014
CREATED:20230605T165359Z
LAST-MODIFIED:20230605T165359Z
UID:10011206-1838505600-1838591999@www.hmcshaida.com
SUMMARY:HMCS HAIDA ordered from the Vicker_Armstrong Yards on the Tyne
DESCRIPTION:
URL:https://www.hmcshaida.com/events/hmcs-haida-ordered-from-the-vicker_armstrong-yards-on-the-tyne-2/2028-04-05/
END:VEVENT
BEGIN:VEVENT
DTSTART;VALUE=DATE:20280416
DTEND;VALUE=DATE:20280417
DTSTAMP:20260422T045014
CREATED:20230605T165556Z
LAST-MODIFIED:20230605T165556Z
UID:10011290-1839456000-1839542399@www.hmcshaida.com
SUMMARY:Convoy JW.66 departs Clyde
DESCRIPTION:
URL:https://www.hmcshaida.com/events/convoy-jw-66-departs-clyde-2/2028-04-16/
END:VEVENT
BEGIN:VEVENT
DTSTART;VALUE=DATE:20280418
DTEND;VALUE=DATE:20280419
DTSTAMP:20260422T045014
CREATED:20230605T165654Z
LAST-MODIFIED:20230605T165654Z
UID:10011374-1839628800-1839715199@www.hmcshaida.com
SUMMARY:HMCS HAIDA\, HMCS HURON and HMCS IROQUOIS depart Clyde and join with convoy JW.66
DESCRIPTION:
URL:https://www.hmcshaida.com/events/hmcs-haida-hmcs-huron-and-hmcs-iroquois-depart-clyde-and-join-with-convoy-jw-66-3/2028-04-18/
END:VEVENT
BEGIN:VEVENT
DTSTART;VALUE=DATE:20280425
DTEND;VALUE=DATE:20280426
DTSTAMP:20260422T045014
CREATED:20230605T170033Z
LAST-MODIFIED:20230605T170033Z
UID:10011458-1840233600-1840319999@www.hmcshaida.com
SUMMARY:convoy JW.66 arrives at Kola Inlet\, HMCS HAIDA departs convoy
DESCRIPTION:
URL:https://www.hmcshaida.com/events/convoy-jw-66-arrives-at-kola-inlet-hmcs-haida-departs-convoy-3/2028-04-25/
END:VEVENT
BEGIN:VEVENT
DTSTART;VALUE=DATE:20280429
DTEND;VALUE=DATE:20280430
DTSTAMP:20260422T045014
CREATED:20230420T233524Z
LAST-MODIFIED:20230605T180422Z
UID:10011653-1840579200-1840665599@www.hmcshaida.com
SUMMARY:Sinking of HMCS Athabaskan - April 29
DESCRIPTION:Led by Friends of Haida. Commemorative event\, ship closed. Timing TBD.
URL:https://www.hmcshaida.com/events/sinking-of-hmcs-athabaskan-april-29/2028-04-29/
END:VEVENT
BEGIN:VEVENT
DTSTART;VALUE=DATE:20280429
DTEND;VALUE=DATE:20280430
DTSTAMP:20260422T045014
CREATED:20250331T163056Z
LAST-MODIFIED:20250331T163252Z
UID:10014180-1840579200-1840665599@www.hmcshaida.com
SUMMARY:Sinking of HMCS Athabaskan  (ship not open to visitors)
DESCRIPTION:Commemorated at HMCS Haida\, the sinking of HMCS Athabaskan (April 29\, 1944) honours 128 lost sailors and its role in WWII naval history.
URL:https://www.hmcshaida.com/events/sinking-of-hmcs-athabaskan/2028-04-29/
END:VEVENT
BEGIN:VEVENT
DTSTART;VALUE=DATE:20280504
DTEND;VALUE=DATE:20280505
DTSTAMP:20260422T045014
CREATED:20250331T163330Z
LAST-MODIFIED:20250331T163330Z
UID:10014185-1841011200-1841097599@www.hmcshaida.com
SUMMARY:Battle of the Atlantic (ship not open to visitors)
DESCRIPTION:On May 4\, HMCS Haida in Hamilton remembers the Battle of the Atlantic\, celebrating naval bravery that maintained Allied supply lines in WWII.
URL:https://www.hmcshaida.com/events/battle-of-the-atlantic-ship-not-open-to-visitors/2028-05-04/
END:VEVENT
BEGIN:VEVENT
DTSTART;VALUE=DATE:20280507
DTEND;VALUE=DATE:20280508
DTSTAMP:20260422T045014
CREATED:20230426T204833Z
LAST-MODIFIED:20250331T163513Z
UID:10014170-1841270400-1841356799@www.hmcshaida.com
SUMMARY:Battle of the Atlantic
DESCRIPTION:Ceremony conducted under Gantry Crane led by HMCS STAR 2-3 PM.\nVE will dress ship and possibly fire A-Gun\nJetty area will be open incl. FOH gift shop – would 10 AM work for Friends?\nStandard guided tour to be offered at specific time slots (11 AM\, 12 PM\, 1 PM\, 3:15 PM) to public
URL:https://www.hmcshaida.com/events/battle-of-the-atlantic-may-7/2028-05-07/
END:VEVENT
BEGIN:VEVENT
DTSTART;VALUE=DATE:20280625
DTEND;VALUE=DATE:20280626
DTSTAMP:20260422T045014
CREATED:20250331T164526Z
LAST-MODIFIED:20250331T164526Z
UID:10014210-1845504000-1845590399@www.hmcshaida.com
SUMMARY:75th comm. Beginning of Korean War
DESCRIPTION:The 75th commemoration of the Korean War (June 25\, 2025) honours those who served and highlights the enduring Korean Peninsula division.
URL:https://www.hmcshaida.com/events/75th-comm-beginning-of-korean-war/2028-06-25/
END:VEVENT
BEGIN:VEVENT
DTSTART;TZID=America/Halifax:20280823T110000
DTEND;TZID=America/Halifax:20280823T160000
DTSTAMP:20260422T045014
CREATED:20250331T164023Z
LAST-MODIFIED:20250815T181034Z
UID:10014233-1850641200-1850659200@www.hmcshaida.com
SUMMARY:82nd Ship’s Birthday
DESCRIPTION:when  do you need the invoices? \n 
URL:https://www.hmcshaida.com/events/82nd-ships-birthday/2028-08-23/
LOCATION:HMCS Haida National Historic Site\, Pier 9-658 Catharine St N\, Hamilton\, Ontario\, L8L 8K4\, Canada
END:VEVENT
BEGIN:VEVENT
DTSTART;VALUE=DATE:20290429
DTEND;VALUE=DATE:20290430
DTSTAMP:20260422T045014
CREATED:20250331T163056Z
LAST-MODIFIED:20250331T163252Z
UID:10014181-1872115200-1872201599@www.hmcshaida.com
SUMMARY:Sinking of HMCS Athabaskan  (ship not open to visitors)
DESCRIPTION:Commemorated at HMCS Haida\, the sinking of HMCS Athabaskan (April 29\, 1944) honours 128 lost sailors and its role in WWII naval history.
URL:https://www.hmcshaida.com/events/sinking-of-hmcs-athabaskan/2029-04-29/
END:VEVENT
BEGIN:VEVENT
DTSTART;VALUE=DATE:20290504
DTEND;VALUE=DATE:20290505
DTSTAMP:20260422T045014
CREATED:20250331T163330Z
LAST-MODIFIED:20250331T163330Z
UID:10014186-1872547200-1872633599@www.hmcshaida.com
SUMMARY:Battle of the Atlantic (ship not open to visitors)
DESCRIPTION:On May 4\, HMCS Haida in Hamilton remembers the Battle of the Atlantic\, celebrating naval bravery that maintained Allied supply lines in WWII.
URL:https://www.hmcshaida.com/events/battle-of-the-atlantic-ship-not-open-to-visitors/2029-05-04/
END:VEVENT
BEGIN:VEVENT
DTSTART;VALUE=DATE:20290506
DTEND;VALUE=DATE:20290507
DTSTAMP:20260422T045014
CREATED:20230426T204833Z
LAST-MODIFIED:20250331T163513Z
UID:10014187-1872720000-1872806399@www.hmcshaida.com
SUMMARY:Battle of the Atlantic
DESCRIPTION:Ceremony conducted under Gantry Crane led by HMCS STAR 2-3 PM.\nVE will dress ship and possibly fire A-Gun\nJetty area will be open incl. FOH gift shop – would 10 AM work for Friends?\nStandard guided tour to be offered at specific time slots (11 AM\, 12 PM\, 1 PM\, 3:15 PM) to public
URL:https://www.hmcshaida.com/events/battle-of-the-atlantic-may-7/2029-05-06/
END:VEVENT
BEGIN:VEVENT
DTSTART;VALUE=DATE:20290625
DTEND;VALUE=DATE:20290626
DTSTAMP:20260422T045014
CREATED:20250331T164526Z
LAST-MODIFIED:20250331T164526Z
UID:10014211-1877040000-1877126399@www.hmcshaida.com
SUMMARY:75th comm. Beginning of Korean War
DESCRIPTION:The 75th commemoration of the Korean War (June 25\, 2025) honours those who served and highlights the enduring Korean Peninsula division.
URL:https://www.hmcshaida.com/events/75th-comm-beginning-of-korean-war/2029-06-25/
END:VEVENT
BEGIN:VEVENT
DTSTART;TZID=America/Halifax:20290823T110000
DTEND;TZID=America/Halifax:20290823T160000
DTSTAMP:20260422T045014
CREATED:20250331T164023Z
LAST-MODIFIED:20250815T181034Z
UID:10014234-1882177200-1882195200@www.hmcshaida.com
SUMMARY:82nd Ship’s Birthday
DESCRIPTION:when  do you need the invoices? \n 
URL:https://www.hmcshaida.com/events/82nd-ships-birthday/2029-08-23/
LOCATION:HMCS Haida National Historic Site\, Pier 9-658 Catharine St N\, Hamilton\, Ontario\, L8L 8K4\, Canada
END:VEVENT
END:VCALENDAR