   BEGIN:VCALENDAR
VERSION:2.0
PRODID:-//Hmcshaida - ECPv6.15.11//NONSGML v1.0//EN
CALSCALE:GREGORIAN
METHOD:PUBLISH
X-ORIGINAL-URL:https://www.hmcshaida.com
X-WR-CALDESC:Events for Hmcshaida
REFRESH-INTERVAL;VALUE=DURATION:PT1H
X-Robots-Tag:noindex
X-PUBLISHED-TTL:PT1H
BEGIN:VTIMEZONE
TZID:America/Halifax
BEGIN:DAYLIGHT
TZOFFSETFROM:-0400
TZOFFSETTO:-0300
TZNAME:ADT
DTSTART:20230312T060000
END:DAYLIGHT
BEGIN:STANDARD
TZOFFSETFROM:-0300
TZOFFSETTO:-0400
TZNAME:AST
DTSTART:20231105T050000
END:STANDARD
BEGIN:DAYLIGHT
TZOFFSETFROM:-0400
TZOFFSETTO:-0300
TZNAME:ADT
DTSTART:20240310T060000
END:DAYLIGHT
BEGIN:STANDARD
TZOFFSETFROM:-0300
TZOFFSETTO:-0400
TZNAME:AST
DTSTART:20241103T050000
END:STANDARD
BEGIN:DAYLIGHT
TZOFFSETFROM:-0400
TZOFFSETTO:-0300
TZNAME:ADT
DTSTART:20250309T060000
END:DAYLIGHT
BEGIN:STANDARD
TZOFFSETFROM:-0300
TZOFFSETTO:-0400
TZNAME:AST
DTSTART:20251102T050000
END:STANDARD
BEGIN:DAYLIGHT
TZOFFSETFROM:-0400
TZOFFSETTO:-0300
TZNAME:ADT
DTSTART:20260308T060000
END:DAYLIGHT
BEGIN:STANDARD
TZOFFSETFROM:-0300
TZOFFSETTO:-0400
TZNAME:AST
DTSTART:20261101T050000
END:STANDARD
END:VTIMEZONE
BEGIN:VTIMEZONE
TZID:UTC
BEGIN:STANDARD
TZOFFSETFROM:+0000
TZOFFSETTO:+0000
TZNAME:UTC
DTSTART:20230101T000000
END:STANDARD
END:VTIMEZONE
BEGIN:VEVENT
DTSTART;VALUE=DATE:20241226
DTEND;VALUE=DATE:20241227
DTSTAMP:20260422T000040
CREATED:20230605T182422Z
LAST-MODIFIED:20230605T182422Z
UID:10011823-1735171200-1735257599@www.hmcshaida.com
SUMMARY:Battle of North Cape and the destruction of the German battlecruiser Scharnhorst. HMCS HAIDA was the stern escort for JW55B. HMCS HAIDA came within twelve miles of miles of Scharnhorst’s forward destroyer escort.
DESCRIPTION:
URL:https://www.hmcshaida.com/events/battle-of-north-cape-and-the-destruction-of-the-german-battlecruiser-scharnhorst-hmcs-haida-was-the-stern-escort-for-jw55b-hmcs-haida-came-within-twelve-miles-of-miles-of-scharnhorsts-forwa-3/2024-12-26/
END:VEVENT
BEGIN:VEVENT
DTSTART;VALUE=DATE:20241229
DTEND;VALUE=DATE:20241230
DTSTAMP:20260422T000040
CREATED:20230310T003931Z
LAST-MODIFIED:20230310T215549Z
UID:10010460-1735430400-1735516799@www.hmcshaida.com
SUMMARY:HMCS HAIDA departs convoy JW.55B.
DESCRIPTION:
URL:https://www.hmcshaida.com/events/hmcs-haida-departs-convoy-jw-55b/2024-12-29/
END:VEVENT
BEGIN:VEVENT
DTSTART;VALUE=DATE:20241230
DTEND;VALUE=DATE:20241231
DTSTAMP:20260422T000040
CREATED:20230310T003931Z
LAST-MODIFIED:20230310T215533Z
UID:10010376-1735516800-1735603199@www.hmcshaida.com
SUMMARY:Convoy RA.55B departs Kola Inlet.
DESCRIPTION:
URL:https://www.hmcshaida.com/events/convoy-ra-55b-departs-kola-inlet/2024-12-30/
END:VEVENT
BEGIN:VEVENT
DTSTART;VALUE=DATE:20241231
DTEND;VALUE=DATE:20250101
DTSTAMP:20260422T000040
CREATED:20230310T003931Z
LAST-MODIFIED:20230310T215520Z
UID:10010292-1735603200-1735689599@www.hmcshaida.com
SUMMARY:HMCS HAIDA joins convoy RA.55B as escort.
DESCRIPTION:
URL:https://www.hmcshaida.com/events/hmcs-haida-joins-convoy-ra-55b-as-escort/2024-12-31/
END:VEVENT
BEGIN:VEVENT
DTSTART;VALUE=DATE:20250107
DTEND;VALUE=DATE:20250108
DTSTAMP:20260422T000040
CREATED:20230310T003942Z
LAST-MODIFIED:20230310T215508Z
UID:10010208-1736208000-1736294399@www.hmcshaida.com
SUMMARY:HMCS HAIDA departs convoy RA.55B.
DESCRIPTION:
URL:https://www.hmcshaida.com/events/hmcs-haida-departs-convoy-ra-55b/2025-01-07/
END:VEVENT
BEGIN:VEVENT
DTSTART;VALUE=DATE:20250108
DTEND;VALUE=DATE:20250109
DTSTAMP:20260422T000040
CREATED:20230310T003942Z
LAST-MODIFIED:20230310T215455Z
UID:10010124-1736294400-1736380799@www.hmcshaida.com
SUMMARY:Convoy RA.55B arrives at Loch Ewe.
DESCRIPTION:
URL:https://www.hmcshaida.com/events/convoy-ra-55b-arrives-at-loch-ewe/2025-01-08/
END:VEVENT
BEGIN:VEVENT
DTSTART;VALUE=DATE:20250205
DTEND;VALUE=DATE:20250206
DTSTAMP:20260422T000040
CREATED:20230310T003737Z
LAST-MODIFIED:20230310T011604Z
UID:10006931-1738713600-1738799999@www.hmcshaida.com
SUMMARY:HMCS HAIDA arrives on station in Korea
DESCRIPTION:
URL:https://www.hmcshaida.com/events/hmcs-haida-arrives-on-station-in-korea/2025-02-05/
END:VEVENT
BEGIN:VEVENT
DTSTART;VALUE=DATE:20250317
DTEND;VALUE=DATE:20250318
DTSTAMP:20260422T000040
CREATED:20230310T003738Z
LAST-MODIFIED:20230310T013148Z
UID:10007931-1742169600-1742255999@www.hmcshaida.com
SUMMARY:Commissioning of HMCS HAIDA as DDE 215. HAIDA is the first vessel of all Commonwealth navies to commission under Queen Elizabeth II.
DESCRIPTION:
URL:https://www.hmcshaida.com/events/commissioning-of-hmcs-haida-as-dde-215-haida-is-the-first-vessel-of-all-commonwealth-navies-to-commission-under-queen-elizabeth-ii/2025-03-17/
END:VEVENT
BEGIN:VEVENT
DTSTART;VALUE=DATE:20250320
DTEND;VALUE=DATE:20250321
DTSTAMP:20260422T000040
CREATED:20230605T165209Z
LAST-MODIFIED:20230605T165209Z
UID:10011114-1742428800-1742515199@www.hmcshaida.com
SUMMARY:HMCS HAIDA paid off to refit.
DESCRIPTION:
URL:https://www.hmcshaida.com/events/hmcs-haida-paid-off-to-refit-2/2025-03-20/
END:VEVENT
BEGIN:VEVENT
DTSTART;VALUE=DATE:20250405
DTEND;VALUE=DATE:20250406
DTSTAMP:20260422T000040
CREATED:20230605T165359Z
LAST-MODIFIED:20230605T165359Z
UID:10011203-1743811200-1743897599@www.hmcshaida.com
SUMMARY:HMCS HAIDA ordered from the Vicker_Armstrong Yards on the Tyne
DESCRIPTION:
URL:https://www.hmcshaida.com/events/hmcs-haida-ordered-from-the-vicker_armstrong-yards-on-the-tyne-2/2025-04-05/
END:VEVENT
BEGIN:VEVENT
DTSTART;VALUE=DATE:20250416
DTEND;VALUE=DATE:20250417
DTSTAMP:20260422T000040
CREATED:20230605T165556Z
LAST-MODIFIED:20230605T165556Z
UID:10011287-1744761600-1744847999@www.hmcshaida.com
SUMMARY:Convoy JW.66 departs Clyde
DESCRIPTION:
URL:https://www.hmcshaida.com/events/convoy-jw-66-departs-clyde-2/2025-04-16/
END:VEVENT
BEGIN:VEVENT
DTSTART;VALUE=DATE:20250418
DTEND;VALUE=DATE:20250419
DTSTAMP:20260422T000040
CREATED:20230605T165654Z
LAST-MODIFIED:20230605T165654Z
UID:10011371-1744934400-1745020799@www.hmcshaida.com
SUMMARY:HMCS HAIDA\, HMCS HURON and HMCS IROQUOIS depart Clyde and join with convoy JW.66
DESCRIPTION:
URL:https://www.hmcshaida.com/events/hmcs-haida-hmcs-huron-and-hmcs-iroquois-depart-clyde-and-join-with-convoy-jw-66-3/2025-04-18/
END:VEVENT
BEGIN:VEVENT
DTSTART;VALUE=DATE:20250425
DTEND;VALUE=DATE:20250426
DTSTAMP:20260422T000040
CREATED:20230605T170033Z
LAST-MODIFIED:20230605T170033Z
UID:10011455-1745539200-1745625599@www.hmcshaida.com
SUMMARY:convoy JW.66 arrives at Kola Inlet\, HMCS HAIDA departs convoy
DESCRIPTION:
URL:https://www.hmcshaida.com/events/convoy-jw-66-arrives-at-kola-inlet-hmcs-haida-departs-convoy-3/2025-04-25/
END:VEVENT
BEGIN:VEVENT
DTSTART;VALUE=DATE:20250425
DTEND;VALUE=DATE:20250428
DTSTAMP:20260422T000040
CREATED:20250415T164751Z
LAST-MODIFIED:20250415T164751Z
UID:10014212-1745539200-1745798399@www.hmcshaida.com
SUMMARY:EX Trillium Venture 25
DESCRIPTION:Providing amateur radio communications in a Domestic Response Exercise in Northumberland County. Operators will be based  in Roseneath.
URL:https://www.hmcshaida.com/events/ex-trillium-venture-25/
END:VEVENT
BEGIN:VEVENT
DTSTART;VALUE=DATE:20250429
DTEND;VALUE=DATE:20250430
DTSTAMP:20260422T000040
CREATED:20230310T003743Z
LAST-MODIFIED:20230310T215323Z
UID:10009709-1745884800-1745971199@www.hmcshaida.com
SUMMARY:HMCS HAIDA involved in rescue of HMCS ATHABASKAN
DESCRIPTION:
URL:https://www.hmcshaida.com/events/hmcs-haida-involved-in-rescue-of-hmcs-athabaskan-2/2025-04-29/
END:VEVENT
BEGIN:VEVENT
DTSTART;VALUE=DATE:20250429
DTEND;VALUE=DATE:20250430
DTSTAMP:20260422T000040
CREATED:20230310T003757Z
LAST-MODIFIED:20230310T013501Z
UID:10008634-1745884800-1745971199@www.hmcshaida.com
SUMMARY:HMCS HAIDA\, HMCS HURON and HMCS IROQUOIS depart Kola Inlet for Clyde with convoy RA.66.
DESCRIPTION:
URL:https://www.hmcshaida.com/events/hmcs-haida-hmcs-huron-and-hmcs-iroquois-depart-kola-inlet-for-clyde-with-convoy-ra-66/2025-04-29/
END:VEVENT
BEGIN:VEVENT
DTSTART;VALUE=DATE:20250429
DTEND;VALUE=DATE:20250430
DTSTAMP:20260422T000040
CREATED:20230310T003757Z
LAST-MODIFIED:20230310T013518Z
UID:10008716-1745884800-1745971199@www.hmcshaida.com
SUMMARY:HMCS HAIDA and HMCS IROQUOIS were attacked by U_427. The attack resulted in near misses by U_427. The last convoy battle of WW2.
DESCRIPTION:
URL:https://www.hmcshaida.com/events/hmcs-haida-and-hmcs-iroquois-were-attacked-by-u_427-the-attack-resulted-in-near-misses-by-u_427-the-last-convoy-battle-of-ww2/2025-04-29/
END:VEVENT
BEGIN:VEVENT
DTSTART;VALUE=DATE:20250429
DTEND;VALUE=DATE:20250430
DTSTAMP:20260422T000040
CREATED:20250331T163056Z
LAST-MODIFIED:20250331T163252Z
UID:10014177-1745884800-1745971199@www.hmcshaida.com
SUMMARY:Sinking of HMCS Athabaskan  (ship not open to visitors)
DESCRIPTION:Commemorated at HMCS Haida\, the sinking of HMCS Athabaskan (April 29\, 1944) honours 128 lost sailors and its role in WWII naval history.
URL:https://www.hmcshaida.com/events/sinking-of-hmcs-athabaskan/2025-04-29/
END:VEVENT
BEGIN:VEVENT
DTSTART;VALUE=DATE:20250501
DTEND;VALUE=DATE:20250502
DTSTAMP:20260422T000040
CREATED:20230310T003758Z
LAST-MODIFIED:20230310T010730Z
UID:10006701-1746057600-1746143999@www.hmcshaida.com
SUMMARY:78th anniversary of the Battle of the Atlantic
DESCRIPTION:
URL:https://www.hmcshaida.com/events/78th-anniversary-of-the-battle-of-the-atlantic-4/2025-05-01/
END:VEVENT
BEGIN:VEVENT
DTSTART;VALUE=DATE:20250504
DTEND;VALUE=DATE:20250505
DTSTAMP:20260422T000040
CREATED:20230426T204833Z
LAST-MODIFIED:20250331T163513Z
UID:10014167-1746316800-1746403199@www.hmcshaida.com
SUMMARY:Battle of the Atlantic
DESCRIPTION:Ceremony conducted under Gantry Crane led by HMCS STAR 2-3 PM.\nVE will dress ship and possibly fire A-Gun\nJetty area will be open incl. FOH gift shop – would 10 AM work for Friends?\nStandard guided tour to be offered at specific time slots (11 AM\, 12 PM\, 1 PM\, 3:15 PM) to public
URL:https://www.hmcshaida.com/events/battle-of-the-atlantic-may-7/2025-05-04/
END:VEVENT
BEGIN:VEVENT
DTSTART;VALUE=DATE:20250504
DTEND;VALUE=DATE:20250505
DTSTAMP:20260422T000040
CREATED:20250331T163330Z
LAST-MODIFIED:20250331T163330Z
UID:10014182-1746316800-1746403199@www.hmcshaida.com
SUMMARY:Battle of the Atlantic (ship not open to visitors)
DESCRIPTION:On May 4\, HMCS Haida in Hamilton remembers the Battle of the Atlantic\, celebrating naval bravery that maintained Allied supply lines in WWII.
URL:https://www.hmcshaida.com/events/battle-of-the-atlantic-ship-not-open-to-visitors/2025-05-04/
END:VEVENT
BEGIN:VEVENT
DTSTART;VALUE=DATE:20250507
DTEND;VALUE=DATE:20250508
DTSTAMP:20260422T000040
CREATED:20230310T003758Z
LAST-MODIFIED:20230310T013953Z
UID:10009044-1746576000-1746662399@www.hmcshaida.com
SUMMARY:HMCS HAIDA departs convoy RA.66
DESCRIPTION:
URL:https://www.hmcshaida.com/events/hmcs-haida-departs-convoy-ra-66/2025-05-07/
END:VEVENT
BEGIN:VEVENT
DTSTART;VALUE=DATE:20250508
DTEND;VALUE=DATE:20250509
DTSTAMP:20260422T000040
CREATED:20230215T013348Z
LAST-MODIFIED:20230310T014631Z
UID:10008486-1746662400-1746748799@www.hmcshaida.com
SUMMARY:Convoy RA.66 arrives Clyde
DESCRIPTION:
URL:https://www.hmcshaida.com/events/convoy-ra-66-arrives-clyde-3-2/2025-05-08/
END:VEVENT
BEGIN:VEVENT
DTSTART;VALUE=DATE:20250526
DTEND;VALUE=DATE:20250527
DTSTAMP:20260422T000040
CREATED:20230310T003812Z
LAST-MODIFIED:20230310T013020Z
UID:10007624-1748217600-1748303999@www.hmcshaida.com
SUMMARY:Yang do\, Korea. HAIDA pays her “final dues” in membership to the Trainbusters Club. That is HMCS HAIDA's second train and becomes # 2 Trainbuster after HMCS CRUSADER.
DESCRIPTION:
URL:https://www.hmcshaida.com/events/yang-do-korea-haida-pays-her-final-dues-in-membership-to-the-trainbusters-club-that-is-hmcs-haidas-second-train-and-becomes-2-trainbuster-after-hmcs-crusader/2025-05-26/
END:VEVENT
BEGIN:VEVENT
DTSTART;VALUE=DATE:20250526
DTEND;VALUE=DATE:20250527
DTSTAMP:20260422T000040
CREATED:20230310T003812Z
LAST-MODIFIED:20230310T011000Z
UID:10006710-1748217600-1748303999@www.hmcshaida.com
SUMMARY:HMCS HAIDA was designated flagship of the Royal Canadian Navy
DESCRIPTION:
URL:https://www.hmcshaida.com/events/hmcs-haida-was-designated-flagship-of-the-royal-canadian-navy/2025-05-26/
END:VEVENT
BEGIN:VEVENT
DTSTART;VALUE=DATE:20250531
DTEND;VALUE=DATE:20250601
DTSTAMP:20260422T000040
CREATED:20250415T164914Z
LAST-MODIFIED:20250415T164914Z
UID:10014213-1748649600-1748735999@www.hmcshaida.com
SUMMARY:31 Signal Regiment Change of Command Parade and Dinner
DESCRIPTION:Line truck and VST Display have been requested.
URL:https://www.hmcshaida.com/events/31-signal-regiment-change-of-command-parade-and-dinner/
END:VEVENT
BEGIN:VEVENT
DTSTART;TZID=America/Halifax:20250531T100000
DTEND;TZID=America/Halifax:20250601T170000
DTSTAMP:20260422T000041
CREATED:20250610T173130Z
LAST-MODIFIED:20250610T173130Z
UID:10014224-1748685600-1748797200@www.hmcshaida.com
SUMMARY:Anniversary of D-Day/Operation Neptune at HMCS Haida
DESCRIPTION:Join us as we commemorate the 81st anniversary of a pivotal moment in Canadian history that combined all aspects of the Canadian military in their efforts to bring an end to the Second World War. \nThis 2-day event will feature enhanced programing including re-enactors\, demonstrations\, specialized presentations\, and much\, much more. \nSchedule for May 31 and June 1: \n• 10:30 a.m. – Guided Tour (Sunday only)\n• 11:00 a.m. – Moment of Silence\n• 11:30 a.m. – Historic Weapons Demo\n• 12:00 p.m. – Noon Day Gun\n• 1:00 p.m. – Ship’s Siren\n• 1:30 p.m. – Historic Weapons Demo\n• 2:00 p.m. – Guided Tour\n• 2:30 p.m. – Enigma Communication (15 mins\, Sunday only) presented by the Vintage Signals Team\n• 3:00 p.m. – Guided Tour\n• 10:00 a.m. – 4:30 p.m. Re-enactors\n• 10:00 a.m. – 4:00 p.m. Naval Communication (display on jetty with Vintage Signals Team) \n  \nStart date: May 31\, 2025\nEnd date: June 01\, 2025\n10 a.m. to 5 p.m. both days.\nLocation(s): HMCS Haida National Historic Site\nCost: Included with admission
URL:https://www.hmcshaida.com/events/anniversary-of-d-day-operation-neptune-at-hmcs-haida/
END:VEVENT
BEGIN:VEVENT
DTSTART;VALUE=DATE:20250602
DTEND;VALUE=DATE:20250603
DTSTAMP:20260422T000041
CREATED:20230310T003813Z
LAST-MODIFIED:20230310T013320Z
UID:10008415-1748822400-1748908799@www.hmcshaida.com
SUMMARY:HMCS HAIDA departs Greenock.
DESCRIPTION:
URL:https://www.hmcshaida.com/events/hmcs-haida-departs-greenock/2025-06-02/
END:VEVENT
BEGIN:VEVENT
DTSTART;VALUE=DATE:20250606
DTEND;VALUE=DATE:20250607
DTSTAMP:20260422T000041
CREATED:20230310T003813Z
LAST-MODIFIED:20230310T215307Z
UID:10009626-1749168000-1749254399@www.hmcshaida.com
SUMMARY:HMCS HAIDA present at D Day
DESCRIPTION:
URL:https://www.hmcshaida.com/events/hmcs-haida-present-at-d-day/2025-06-06/
END:VEVENT
BEGIN:VEVENT
DTSTART;VALUE=DATE:20250606
DTEND;VALUE=DATE:20250607
DTSTAMP:20260422T000041
CREATED:20230310T003813Z
LAST-MODIFIED:20230310T011820Z
UID:10007276-1749168000-1749254399@www.hmcshaida.com
SUMMARY:D Day 50th Anniversary Plaque presentation by Lt Gov Lincoln Alexander.
DESCRIPTION:
URL:https://www.hmcshaida.com/events/d-day-50th-anniversary-plaque-presentation-by-lt-gov-lincoln-alexander/2025-06-06/
END:VEVENT
END:VCALENDAR