   BEGIN:VCALENDAR
VERSION:2.0
PRODID:-//Hmcshaida - ECPv6.15.11//NONSGML v1.0//EN
CALSCALE:GREGORIAN
METHOD:PUBLISH
X-ORIGINAL-URL:https://www.hmcshaida.com
X-WR-CALDESC:Events for Hmcshaida
REFRESH-INTERVAL;VALUE=DURATION:PT1H
X-Robots-Tag:noindex
X-PUBLISHED-TTL:PT1H
BEGIN:VTIMEZONE
TZID:UTC
BEGIN:STANDARD
TZOFFSETFROM:+0000
TZOFFSETTO:+0000
TZNAME:UTC
DTSTART:20250101T000000
END:STANDARD
END:VTIMEZONE
BEGIN:VEVENT
DTSTART;VALUE=DATE:20260107
DTEND;VALUE=DATE:20260108
DTSTAMP:20260424T190054
CREATED:20230310T003942Z
LAST-MODIFIED:20230310T215508Z
UID:10010209-1767744000-1767830399@www.hmcshaida.com
SUMMARY:HMCS HAIDA departs convoy RA.55B.
DESCRIPTION:
URL:https://www.hmcshaida.com/events/hmcs-haida-departs-convoy-ra-55b/2026-01-07/
END:VEVENT
END:VCALENDAR