   BEGIN:VCALENDAR
VERSION:2.0
PRODID:-//Hmcshaida - ECPv6.15.11//NONSGML v1.0//EN
CALSCALE:GREGORIAN
METHOD:PUBLISH
X-ORIGINAL-URL:https://www.hmcshaida.com
X-WR-CALDESC:Events for Hmcshaida
REFRESH-INTERVAL;VALUE=DURATION:PT1H
X-Robots-Tag:noindex
X-PUBLISHED-TTL:PT1H
BEGIN:VTIMEZONE
TZID:UTC
BEGIN:STANDARD
TZOFFSETFROM:+0000
TZOFFSETTO:+0000
TZNAME:UTC
DTSTART:20240101T000000
END:STANDARD
END:VTIMEZONE
BEGIN:VEVENT
DTSTART;VALUE=DATE:20251218
DTEND;VALUE=DATE:20251219
DTSTAMP:20260424T202759
CREATED:20230310T003928Z
LAST-MODIFIED:20230310T215147Z
UID:10009210-1766016000-1766102399@www.hmcshaida.com
SUMMARY:Cdr Henry George DeWolf departs as Commanding Officer.
DESCRIPTION:
URL:https://www.hmcshaida.com/events/cdr-henry-george-dewolf-departs-as-commanding-officer/2025-12-18/
END:VEVENT
END:VCALENDAR